BEGIN:VCALENDAR
VERSION:2.0
PRODID:-//Lithia Springs Methodist Church - ECPv6.15.20//NONSGML v1.0//EN
CALSCALE:GREGORIAN
METHOD:PUBLISH
X-WR-CALNAME:Lithia Springs Methodist Church
X-ORIGINAL-URL:https://lithiaspringsmethodist.org
X-WR-CALDESC:Events for Lithia Springs Methodist Church
REFRESH-INTERVAL;VALUE=DURATION:PT1H
X-Robots-Tag:noindex
X-PUBLISHED-TTL:PT1H
BEGIN:VTIMEZONE
TZID:America/New_York
BEGIN:DAYLIGHT
TZOFFSETFROM:-0500
TZOFFSETTO:-0400
TZNAME:EDT
DTSTART:20240310T070000
END:DAYLIGHT
BEGIN:STANDARD
TZOFFSETFROM:-0400
TZOFFSETTO:-0500
TZNAME:EST
DTSTART:20241103T060000
END:STANDARD
BEGIN:DAYLIGHT
TZOFFSETFROM:-0500
TZOFFSETTO:-0400
TZNAME:EDT
DTSTART:20250309T070000
END:DAYLIGHT
BEGIN:STANDARD
TZOFFSETFROM:-0400
TZOFFSETTO:-0500
TZNAME:EST
DTSTART:20251102T060000
END:STANDARD
BEGIN:DAYLIGHT
TZOFFSETFROM:-0500
TZOFFSETTO:-0400
TZNAME:EDT
DTSTART:20260308T070000
END:DAYLIGHT
BEGIN:STANDARD
TZOFFSETFROM:-0400
TZOFFSETTO:-0500
TZNAME:EST
DTSTART:20261101T060000
END:STANDARD
END:VTIMEZONE
BEGIN:VEVENT
DTSTART;TZID=America/New_York:20250403T190000
DTEND;TZID=America/New_York:20250403T200000
DTSTAMP:20260425T175135
CREATED:20250329T144811Z
LAST-MODIFIED:20250405T162709Z
UID:2619-1743706800-1743710400@lithiaspringsmethodist.org
SUMMARY:Hospitality Committee
DESCRIPTION:
URL:https://lithiaspringsmethodist.org/calendar/hospitality-committee/
END:VEVENT
BEGIN:VEVENT
DTSTART;TZID=America/New_York:20250402T194500
DTEND;TZID=America/New_York:20250402T204500
DTSTAMP:20260425T175135
CREATED:20250329T144811Z
LAST-MODIFIED:20250405T162709Z
UID:2618-1743623100-1743626700@lithiaspringsmethodist.org
SUMMARY:Choir Practice
DESCRIPTION:
URL:https://lithiaspringsmethodist.org/calendar/choir-practice-5/
END:VEVENT
BEGIN:VEVENT
DTSTART;TZID=America/New_York:20250402T184500
DTEND;TZID=America/New_York:20250402T194500
DTSTAMP:20260425T175135
CREATED:20250329T144808Z
LAST-MODIFIED:20250405T162709Z
UID:2617-1743619500-1743623100@lithiaspringsmethodist.org
SUMMARY:Handbell Practice
DESCRIPTION:
URL:https://lithiaspringsmethodist.org/calendar/handbell-practice-4/
END:VEVENT
BEGIN:VEVENT
DTSTART;TZID=America/New_York:20250402T180000
DTEND;TZID=America/New_York:20250402T190000
DTSTAMP:20260425T175135
CREATED:20250329T144808Z
LAST-MODIFIED:20250405T162709Z
UID:2616-1743616800-1743620400@lithiaspringsmethodist.org
SUMMARY:Cub Scout Pack 62
DESCRIPTION:
URL:https://lithiaspringsmethodist.org/calendar/cub-scout-pack-62-5/
END:VEVENT
BEGIN:VEVENT
DTSTART;TZID=America/New_York:20250402T163000
DTEND;TZID=America/New_York:20250402T173000
DTSTAMP:20260425T175135
CREATED:20250329T144807Z
LAST-MODIFIED:20250405T162710Z
UID:2615-1743611400-1743615000@lithiaspringsmethodist.org
SUMMARY:Prayer Group
DESCRIPTION:
URL:https://lithiaspringsmethodist.org/calendar/prayer-group-10/
END:VEVENT
BEGIN:VEVENT
DTSTART;TZID=America/New_York:20250401T100000
DTEND;TZID=America/New_York:20250401T110000
DTSTAMP:20260425T175135
CREATED:20250329T144807Z
LAST-MODIFIED:20250405T162710Z
UID:2614-1743501600-1743505200@lithiaspringsmethodist.org
SUMMARY:The Glory Quartet
DESCRIPTION:
URL:https://lithiaspringsmethodist.org/calendar/the-glory-quartet/
END:VEVENT
BEGIN:VEVENT
DTSTART;TZID=America/New_York:20250331T190000
DTEND;TZID=America/New_York:20250331T200000
DTSTAMP:20260425T175135
CREATED:20250329T144807Z
LAST-MODIFIED:20250405T162710Z
UID:2613-1743447600-1743451200@lithiaspringsmethodist.org
SUMMARY:Boy Scouts Troop 62
DESCRIPTION:
URL:https://lithiaspringsmethodist.org/calendar/boy-scouts-troop-62-12/
END:VEVENT
BEGIN:VEVENT
DTSTART;TZID=America/New_York:20250330T110000
DTEND;TZID=America/New_York:20250330T120000
DTSTAMP:20260425T175135
CREATED:20250125T220426Z
LAST-MODIFIED:20250125T221347Z
UID:2036-1743332400-1743336000@lithiaspringsmethodist.org
SUMMARY:Worship Service
DESCRIPTION:
URL:https://lithiaspringsmethodist.org/calendar/worship-service-12/
END:VEVENT
BEGIN:VEVENT
DTSTART;TZID=America/New_York:20250330T094500
DTEND;TZID=America/New_York:20250330T104500
DTSTAMP:20260425T175135
CREATED:20250125T220426Z
LAST-MODIFIED:20250125T221347Z
UID:2035-1743327900-1743331500@lithiaspringsmethodist.org
SUMMARY:Children's Sunday School
DESCRIPTION:
URL:https://lithiaspringsmethodist.org/calendar/childrens-sunday-school-12/
END:VEVENT
BEGIN:VEVENT
DTSTART;TZID=America/New_York:20250330T094500
DTEND;TZID=America/New_York:20250330T104500
DTSTAMP:20260425T175135
CREATED:20250125T220411Z
LAST-MODIFIED:20250125T221347Z
UID:2034-1743327900-1743331500@lithiaspringsmethodist.org
SUMMARY:Adult Sunday School
DESCRIPTION:
URL:https://lithiaspringsmethodist.org/calendar/adult-sunday-school-12/
END:VEVENT
BEGIN:VEVENT
DTSTART;TZID=America/New_York:20250326T194500
DTEND;TZID=America/New_York:20250326T204500
DTSTAMP:20260425T175135
CREATED:20250322T162015Z
LAST-MODIFIED:20250405T162710Z
UID:2587-1743018300-1743021900@lithiaspringsmethodist.org
SUMMARY:Choir Practice
DESCRIPTION:
URL:https://lithiaspringsmethodist.org/calendar/choir-practice-4/
END:VEVENT
BEGIN:VEVENT
DTSTART;TZID=America/New_York:20250326T184500
DTEND;TZID=America/New_York:20250326T194500
DTSTAMP:20260425T175135
CREATED:20250322T162015Z
LAST-MODIFIED:20250405T162711Z
UID:2586-1743014700-1743018300@lithiaspringsmethodist.org
SUMMARY:Handbell Practice
DESCRIPTION:
URL:https://lithiaspringsmethodist.org/calendar/handbell-practice-3/
END:VEVENT
BEGIN:VEVENT
DTSTART;TZID=America/New_York:20250326T180000
DTEND;TZID=America/New_York:20250326T190000
DTSTAMP:20260425T175135
CREATED:20250322T162015Z
LAST-MODIFIED:20250405T162711Z
UID:2585-1743012000-1743015600@lithiaspringsmethodist.org
SUMMARY:Cub Scout Pack 62
DESCRIPTION:
URL:https://lithiaspringsmethodist.org/calendar/cub-scout-pack-62-4/
END:VEVENT
BEGIN:VEVENT
DTSTART;TZID=America/New_York:20250326T163000
DTEND;TZID=America/New_York:20250326T173000
DTSTAMP:20260425T175135
CREATED:20250322T162010Z
LAST-MODIFIED:20250405T162711Z
UID:2584-1743006600-1743010200@lithiaspringsmethodist.org
SUMMARY:Prayer Group
DESCRIPTION:
URL:https://lithiaspringsmethodist.org/calendar/prayer-group-9/
END:VEVENT
BEGIN:VEVENT
DTSTART;TZID=America/New_York:20250325T190000
DTEND;TZID=America/New_York:20250325T200000
DTSTAMP:20260425T175135
CREATED:20250322T162010Z
LAST-MODIFIED:20250405T162711Z
UID:2583-1742929200-1742932800@lithiaspringsmethodist.org
SUMMARY:Outreach Task Force
DESCRIPTION:
URL:https://lithiaspringsmethodist.org/calendar/outreach-task-force-2/
END:VEVENT
BEGIN:VEVENT
DTSTART;TZID=America/New_York:20250325T113000
DTEND;TZID=America/New_York:20250325T123000
DTSTAMP:20260425T175135
CREATED:20250322T162010Z
LAST-MODIFIED:20250405T162711Z
UID:2582-1742902200-1742905800@lithiaspringsmethodist.org
SUMMARY:Hospitality Kitchen Sub Comm
DESCRIPTION:
URL:https://lithiaspringsmethodist.org/calendar/hospitality-kitchen-sub-comm/
END:VEVENT
BEGIN:VEVENT
DTSTART;TZID=America/New_York:20250325T100000
DTEND;TZID=America/New_York:20250325T110000
DTSTAMP:20260425T175135
CREATED:20250322T162010Z
LAST-MODIFIED:20250405T162815Z
UID:2581-1742896800-1742900400@lithiaspringsmethodist.org
SUMMARY:Fully Devoted Bible Study
DESCRIPTION:
URL:https://lithiaspringsmethodist.org/calendar/fully-devoted-bible-study-8/
END:VEVENT
BEGIN:VEVENT
DTSTART;TZID=America/New_York:20250324T190000
DTEND;TZID=America/New_York:20250324T200000
DTSTAMP:20260425T175135
CREATED:20250322T162009Z
LAST-MODIFIED:20250405T162815Z
UID:2580-1742842800-1742846400@lithiaspringsmethodist.org
SUMMARY:Boy Scouts Troop 62
DESCRIPTION:
URL:https://lithiaspringsmethodist.org/calendar/boy-scouts-troop-62-11/
END:VEVENT
BEGIN:VEVENT
DTSTART;TZID=America/New_York:20250323T110000
DTEND;TZID=America/New_York:20250323T120000
DTSTAMP:20260425T175135
CREATED:20250125T220411Z
LAST-MODIFIED:20250125T221640Z
UID:2033-1742727600-1742731200@lithiaspringsmethodist.org
SUMMARY:Worship Service
DESCRIPTION:
URL:https://lithiaspringsmethodist.org/calendar/worship-service-11/
END:VEVENT
BEGIN:VEVENT
DTSTART;TZID=America/New_York:20250323T094500
DTEND;TZID=America/New_York:20250323T104500
DTSTAMP:20260425T175135
CREATED:20250125T220411Z
LAST-MODIFIED:20250125T221641Z
UID:2032-1742723100-1742726700@lithiaspringsmethodist.org
SUMMARY:Children's Sunday School
DESCRIPTION:
URL:https://lithiaspringsmethodist.org/calendar/childrens-sunday-school-11/
END:VEVENT
BEGIN:VEVENT
DTSTART;TZID=America/New_York:20250323T094500
DTEND;TZID=America/New_York:20250323T104500
DTSTAMP:20260425T175135
CREATED:20250125T220411Z
LAST-MODIFIED:20250125T221640Z
UID:2031-1742723100-1742726700@lithiaspringsmethodist.org
SUMMARY:Adult Sunday School
DESCRIPTION:
URL:https://lithiaspringsmethodist.org/calendar/adult-sunday-school-11/
END:VEVENT
BEGIN:VEVENT
DTSTART;TZID=America/New_York:20250319T194500
DTEND;TZID=America/New_York:20250319T204500
DTSTAMP:20260425T175135
CREATED:20250315T151706Z
LAST-MODIFIED:20250405T162816Z
UID:2551-1742413500-1742417100@lithiaspringsmethodist.org
SUMMARY:Choir Practice
DESCRIPTION:
URL:https://lithiaspringsmethodist.org/calendar/choir-practice-3/
END:VEVENT
BEGIN:VEVENT
DTSTART;TZID=America/New_York:20250319T184500
DTEND;TZID=America/New_York:20250319T194500
DTSTAMP:20260425T175135
CREATED:20250315T151706Z
LAST-MODIFIED:20250405T162816Z
UID:2550-1742409900-1742413500@lithiaspringsmethodist.org
SUMMARY:Handbell Practice
DESCRIPTION:
URL:https://lithiaspringsmethodist.org/calendar/handbell-practice-2/
END:VEVENT
BEGIN:VEVENT
DTSTART;TZID=America/New_York:20250319T180000
DTEND;TZID=America/New_York:20250319T193000
DTSTAMP:20260425T175135
CREATED:20250315T151702Z
LAST-MODIFIED:20250405T162816Z
UID:2549-1742407200-1742412600@lithiaspringsmethodist.org
SUMMARY:Cub Scout Pack 62
DESCRIPTION:
URL:https://lithiaspringsmethodist.org/calendar/cub-scout-pack-62-3/
END:VEVENT
BEGIN:VEVENT
DTSTART;TZID=America/New_York:20250319T163000
DTEND;TZID=America/New_York:20250319T173000
DTSTAMP:20260425T175135
CREATED:20250315T151701Z
LAST-MODIFIED:20250405T162816Z
UID:2548-1742401800-1742405400@lithiaspringsmethodist.org
SUMMARY:Prayer Group
DESCRIPTION:
URL:https://lithiaspringsmethodist.org/calendar/prayer-group-8/
END:VEVENT
BEGIN:VEVENT
DTSTART;TZID=America/New_York:20250318T190000
DTEND;TZID=America/New_York:20250318T200000
DTSTAMP:20260425T175135
CREATED:20250315T151701Z
LAST-MODIFIED:20250405T162816Z
UID:2547-1742324400-1742328000@lithiaspringsmethodist.org
SUMMARY:Trustees
DESCRIPTION:
URL:https://lithiaspringsmethodist.org/calendar/trustees-2/
END:VEVENT
BEGIN:VEVENT
DTSTART;TZID=America/New_York:20250318T100000
DTEND;TZID=America/New_York:20250318T110000
DTSTAMP:20260425T175135
CREATED:20250315T151701Z
LAST-MODIFIED:20250405T162816Z
UID:2546-1742292000-1742295600@lithiaspringsmethodist.org
SUMMARY:Fully Devoted Bible Study
DESCRIPTION:
URL:https://lithiaspringsmethodist.org/calendar/fully-devoted-bible-study-7/
END:VEVENT
BEGIN:VEVENT
DTSTART;TZID=America/New_York:20250317T190000
DTEND;TZID=America/New_York:20250317T200000
DTSTAMP:20260425T175135
CREATED:20250315T151700Z
LAST-MODIFIED:20250405T162817Z
UID:2545-1742238000-1742241600@lithiaspringsmethodist.org
SUMMARY:Boy Scouts Troop 62
DESCRIPTION:
URL:https://lithiaspringsmethodist.org/calendar/boy-scouts-troop-62-10/
END:VEVENT
BEGIN:VEVENT
DTSTART;TZID=America/New_York:20250316T110000
DTEND;TZID=America/New_York:20250316T120000
DTSTAMP:20260425T175135
CREATED:20250125T220410Z
LAST-MODIFIED:20250125T221641Z
UID:2030-1742122800-1742126400@lithiaspringsmethodist.org
SUMMARY:Worship Service
DESCRIPTION:
URL:https://lithiaspringsmethodist.org/calendar/worship-service-10/
END:VEVENT
BEGIN:VEVENT
DTSTART;TZID=America/New_York:20250316T094500
DTEND;TZID=America/New_York:20250316T104500
DTSTAMP:20260425T175135
CREATED:20250125T220357Z
LAST-MODIFIED:20250125T221641Z
UID:2029-1742118300-1742121900@lithiaspringsmethodist.org
SUMMARY:Children's Sunday School
DESCRIPTION:
URL:https://lithiaspringsmethodist.org/calendar/childrens-sunday-school-10/
END:VEVENT
END:VCALENDAR