BEGIN:VCALENDAR
VERSION:2.0
PRODID:-//Lithia Springs Methodist Church - ECPv6.15.20//NONSGML v1.0//EN
CALSCALE:GREGORIAN
METHOD:PUBLISH
X-WR-CALNAME:Lithia Springs Methodist Church
X-ORIGINAL-URL:https://lithiaspringsmethodist.org
X-WR-CALDESC:Events for Lithia Springs Methodist Church
REFRESH-INTERVAL;VALUE=DURATION:PT1H
X-Robots-Tag:noindex
X-PUBLISHED-TTL:PT1H
BEGIN:VTIMEZONE
TZID:America/New_York
BEGIN:DAYLIGHT
TZOFFSETFROM:-0500
TZOFFSETTO:-0400
TZNAME:EDT
DTSTART:20240310T070000
END:DAYLIGHT
BEGIN:STANDARD
TZOFFSETFROM:-0400
TZOFFSETTO:-0500
TZNAME:EST
DTSTART:20241103T060000
END:STANDARD
BEGIN:DAYLIGHT
TZOFFSETFROM:-0500
TZOFFSETTO:-0400
TZNAME:EDT
DTSTART:20250309T070000
END:DAYLIGHT
BEGIN:STANDARD
TZOFFSETFROM:-0400
TZOFFSETTO:-0500
TZNAME:EST
DTSTART:20251102T060000
END:STANDARD
BEGIN:DAYLIGHT
TZOFFSETFROM:-0500
TZOFFSETTO:-0400
TZNAME:EDT
DTSTART:20260308T070000
END:DAYLIGHT
BEGIN:STANDARD
TZOFFSETFROM:-0400
TZOFFSETTO:-0500
TZNAME:EST
DTSTART:20261101T060000
END:STANDARD
END:VTIMEZONE
BEGIN:VEVENT
DTSTART;TZID=America/New_York:20250315T100000
DTEND;TZID=America/New_York:20250315T110000
DTSTAMP:20260425T223600
CREATED:20250308T170014Z
LAST-MODIFIED:20250405T162817Z
UID:2525-1742032800-1742036400@lithiaspringsmethodist.org
SUMMARY:Sara Bowden Methodist Women’s Group
DESCRIPTION:
URL:https://lithiaspringsmethodist.org/calendar/sara-bowden-methodist-womens-group/
END:VEVENT
BEGIN:VEVENT
DTSTART;TZID=America/New_York:20250314T100000
DTEND;TZID=America/New_York:20250314T110000
DTSTAMP:20260425T223600
CREATED:20250308T170014Z
LAST-MODIFIED:20250405T162817Z
UID:2524-1741946400-1741950000@lithiaspringsmethodist.org
SUMMARY:Easter Egg Stuffing
DESCRIPTION:
URL:https://lithiaspringsmethodist.org/calendar/easter-egg-stuffing/
END:VEVENT
BEGIN:VEVENT
DTSTART;TZID=America/New_York:20250312T194500
DTEND;TZID=America/New_York:20250312T204500
DTSTAMP:20260425T223600
CREATED:20250308T170014Z
LAST-MODIFIED:20250405T162817Z
UID:2523-1741808700-1741812300@lithiaspringsmethodist.org
SUMMARY:Choir Practice
DESCRIPTION:
URL:https://lithiaspringsmethodist.org/calendar/choir-practice-2/
END:VEVENT
BEGIN:VEVENT
DTSTART;TZID=America/New_York:20250312T184500
DTEND;TZID=America/New_York:20250312T194500
DTSTAMP:20260425T223600
CREATED:20250308T170009Z
LAST-MODIFIED:20250405T162817Z
UID:2522-1741805100-1741808700@lithiaspringsmethodist.org
SUMMARY:Handbell Practice
DESCRIPTION:
URL:https://lithiaspringsmethodist.org/calendar/handbell-practice/
END:VEVENT
BEGIN:VEVENT
DTSTART;TZID=America/New_York:20250312T180000
DTEND;TZID=America/New_York:20250312T190000
DTSTAMP:20260425T223600
CREATED:20250308T170009Z
LAST-MODIFIED:20250405T162817Z
UID:2521-1741802400-1741806000@lithiaspringsmethodist.org
SUMMARY:Cub Scout Pack 62
DESCRIPTION:
URL:https://lithiaspringsmethodist.org/calendar/cub-scout-pack-62-2/
END:VEVENT
BEGIN:VEVENT
DTSTART;TZID=America/New_York:20250311T190000
DTEND;TZID=America/New_York:20250311T200000
DTSTAMP:20260425T223600
CREATED:20250308T170008Z
LAST-MODIFIED:20250405T162818Z
UID:2520-1741719600-1741723200@lithiaspringsmethodist.org
SUMMARY:Brotherhood of Methodist Men
DESCRIPTION:
URL:https://lithiaspringsmethodist.org/calendar/brotherhood-of-methodist-men-2/
END:VEVENT
BEGIN:VEVENT
DTSTART;TZID=America/New_York:20250311T100000
DTEND;TZID=America/New_York:20250311T110000
DTSTAMP:20260425T223600
CREATED:20250308T170008Z
LAST-MODIFIED:20250405T162818Z
UID:2519-1741687200-1741690800@lithiaspringsmethodist.org
SUMMARY:Fully Devoted Bible Study
DESCRIPTION:
URL:https://lithiaspringsmethodist.org/calendar/fully-devoted-bible-study-6/
END:VEVENT
BEGIN:VEVENT
DTSTART;TZID=America/New_York:20250310T190000
DTEND;TZID=America/New_York:20250310T200000
DTSTAMP:20260425T223600
CREATED:20250308T170007Z
LAST-MODIFIED:20250405T162818Z
UID:2518-1741633200-1741636800@lithiaspringsmethodist.org
SUMMARY:Boy Scouts Troop 62
DESCRIPTION:
URL:https://lithiaspringsmethodist.org/calendar/boy-scouts-troop-62-9/
END:VEVENT
BEGIN:VEVENT
DTSTART;TZID=America/New_York:20250309T110000
DTEND;TZID=America/New_York:20250309T120000
DTSTAMP:20260425T223600
CREATED:20250125T220356Z
LAST-MODIFIED:20250125T221641Z
UID:2027-1741518000-1741521600@lithiaspringsmethodist.org
SUMMARY:Worship Service
DESCRIPTION:
URL:https://lithiaspringsmethodist.org/calendar/worship-service-9/
END:VEVENT
BEGIN:VEVENT
DTSTART;TZID=America/New_York:20250309T094500
DTEND;TZID=America/New_York:20250309T104500
DTSTAMP:20260425T223600
CREATED:20250125T220356Z
LAST-MODIFIED:20250125T221642Z
UID:2025-1741513500-1741517100@lithiaspringsmethodist.org
SUMMARY:Adult Sunday School
DESCRIPTION:
URL:https://lithiaspringsmethodist.org/calendar/adult-sunday-school-9/
END:VEVENT
BEGIN:VEVENT
DTSTART;TZID=America/New_York:20250309T094500
DTEND;TZID=America/New_York:20250309T104500
DTSTAMP:20260425T223600
CREATED:20250125T220356Z
LAST-MODIFIED:20250125T221642Z
UID:2026-1741513500-1741517100@lithiaspringsmethodist.org
SUMMARY:Children's Sunday School
DESCRIPTION:
URL:https://lithiaspringsmethodist.org/calendar/childrens-sunday-school-9/
END:VEVENT
BEGIN:VEVENT
DTSTART;TZID=America/New_York:20250306T190000
DTEND;TZID=America/New_York:20250306T200000
DTSTAMP:20260425T223600
CREATED:20250302T043602Z
LAST-MODIFIED:20250405T162818Z
UID:2492-1741287600-1741291200@lithiaspringsmethodist.org
SUMMARY:Hospitality Committee Meeting
DESCRIPTION:
URL:https://lithiaspringsmethodist.org/calendar/hospitality-committee-meeting/
END:VEVENT
BEGIN:VEVENT
DTSTART;TZID=America/New_York:20250305T200000
DTEND;TZID=America/New_York:20250305T210000
DTSTAMP:20260425T223600
CREATED:20250302T043558Z
LAST-MODIFIED:20250405T162818Z
UID:2491-1741204800-1741208400@lithiaspringsmethodist.org
SUMMARY:Choir Practice
DESCRIPTION:
URL:https://lithiaspringsmethodist.org/calendar/choir-practice/
END:VEVENT
BEGIN:VEVENT
DTSTART;TZID=America/New_York:20250305T190000
DTEND;TZID=America/New_York:20250305T200000
DTSTAMP:20260425T223600
CREATED:20250302T043557Z
LAST-MODIFIED:20250405T162818Z
UID:2490-1741201200-1741204800@lithiaspringsmethodist.org
SUMMARY:Ash Wednesday Service
DESCRIPTION:
URL:https://lithiaspringsmethodist.org/calendar/ash-wednesday-service/
END:VEVENT
BEGIN:VEVENT
DTSTART;TZID=America/New_York:20250304T190000
DTEND;TZID=America/New_York:20250304T200000
DTSTAMP:20260425T223600
CREATED:20250302T043557Z
LAST-MODIFIED:20250405T162836Z
UID:2489-1741114800-1741118400@lithiaspringsmethodist.org
SUMMARY:Admin Council Meeting
DESCRIPTION:
URL:https://lithiaspringsmethodist.org/calendar/admin-council-meeting/
END:VEVENT
BEGIN:VEVENT
DTSTART;TZID=America/New_York:20250304T100000
DTEND;TZID=America/New_York:20250304T110000
DTSTAMP:20260425T223600
CREATED:20250302T043557Z
LAST-MODIFIED:20250405T162836Z
UID:2488-1741082400-1741086000@lithiaspringsmethodist.org
SUMMARY:Fully Devoted Bible Study
DESCRIPTION:
URL:https://lithiaspringsmethodist.org/calendar/fully-devoted-bible-study-5/
END:VEVENT
BEGIN:VEVENT
DTSTART;TZID=America/New_York:20250303T190000
DTEND;TZID=America/New_York:20250303T200000
DTSTAMP:20260425T223600
CREATED:20250302T043557Z
LAST-MODIFIED:20250405T162836Z
UID:2487-1741028400-1741032000@lithiaspringsmethodist.org
SUMMARY:Boy Scouts Troop 62
DESCRIPTION:
URL:https://lithiaspringsmethodist.org/calendar/boy-scouts-troop-62-8/
END:VEVENT
BEGIN:VEVENT
DTSTART;TZID=America/New_York:20250302T110000
DTEND;TZID=America/New_York:20250302T120000
DTSTAMP:20260425T223600
CREATED:20250125T220342Z
LAST-MODIFIED:20250125T221642Z
UID:2024-1740913200-1740916800@lithiaspringsmethodist.org
SUMMARY:Worship Service
DESCRIPTION:
URL:https://lithiaspringsmethodist.org/calendar/worship-service-8/
END:VEVENT
BEGIN:VEVENT
DTSTART;TZID=America/New_York:20250302T094500
DTEND;TZID=America/New_York:20250302T104500
DTSTAMP:20260425T223600
CREATED:20250125T220341Z
LAST-MODIFIED:20250125T221642Z
UID:2022-1740908700-1740912300@lithiaspringsmethodist.org
SUMMARY:Adult Sunday School
DESCRIPTION:
URL:https://lithiaspringsmethodist.org/calendar/adult-sunday-school-8/
END:VEVENT
BEGIN:VEVENT
DTSTART;TZID=America/New_York:20250302T094500
DTEND;TZID=America/New_York:20250302T104500
DTSTAMP:20260425T223600
CREATED:20250125T220341Z
LAST-MODIFIED:20250125T221642Z
UID:2023-1740908700-1740912300@lithiaspringsmethodist.org
SUMMARY:Children's Sunday School
DESCRIPTION:
URL:https://lithiaspringsmethodist.org/calendar/childrens-sunday-school-8/
END:VEVENT
BEGIN:VEVENT
DTSTART;TZID=America/New_York:20250302T091500
DTEND;TZID=America/New_York:20250302T101500
DTSTAMP:20260425T223600
CREATED:20250223T043033Z
LAST-MODIFIED:20250405T162836Z
UID:2467-1740906900-1740910500@lithiaspringsmethodist.org
SUMMARY:Shower Committee Meeting
DESCRIPTION:
URL:https://lithiaspringsmethodist.org/calendar/shower-committee-meeting/
END:VEVENT
BEGIN:VEVENT
DTSTART;TZID=America/New_York:20250227T190000
DTEND;TZID=America/New_York:20250227T200000
DTSTAMP:20260425T223600
CREATED:20250223T043033Z
LAST-MODIFIED:20250405T162836Z
UID:2466-1740682800-1740686400@lithiaspringsmethodist.org
SUMMARY:Outreach Task Force
DESCRIPTION:
URL:https://lithiaspringsmethodist.org/calendar/outreach-task-force/
END:VEVENT
BEGIN:VEVENT
DTSTART;TZID=America/New_York:20250226T194500
DTEND;TZID=America/New_York:20250226T204500
DTSTAMP:20260425T223600
CREATED:20250223T043032Z
LAST-MODIFIED:20250405T162836Z
UID:2465-1740599100-1740602700@lithiaspringsmethodist.org
SUMMARY:Chancel Choir
DESCRIPTION:
URL:https://lithiaspringsmethodist.org/calendar/chancel-choir-7/
END:VEVENT
BEGIN:VEVENT
DTSTART;TZID=America/New_York:20250226T184500
DTEND;TZID=America/New_York:20250226T194500
DTSTAMP:20260425T223600
CREATED:20250223T043032Z
LAST-MODIFIED:20250405T162836Z
UID:2464-1740595500-1740599100@lithiaspringsmethodist.org
SUMMARY:Handbell Choir
DESCRIPTION:
URL:https://lithiaspringsmethodist.org/calendar/handbell-choir-7/
END:VEVENT
BEGIN:VEVENT
DTSTART;TZID=America/New_York:20250226T180000
DTEND;TZID=America/New_York:20250226T190000
DTSTAMP:20260425T223600
CREATED:20250223T043027Z
LAST-MODIFIED:20250405T162836Z
UID:2463-1740592800-1740596400@lithiaspringsmethodist.org
SUMMARY:Cub Scout Pack 62
DESCRIPTION:
URL:https://lithiaspringsmethodist.org/calendar/cub-scout-pack-62/
END:VEVENT
BEGIN:VEVENT
DTSTART;TZID=America/New_York:20250226T163000
DTEND;TZID=America/New_York:20250226T173000
DTSTAMP:20260425T223600
CREATED:20250223T043027Z
LAST-MODIFIED:20250405T162837Z
UID:2462-1740587400-1740591000@lithiaspringsmethodist.org
SUMMARY:Prayer Group
DESCRIPTION:
URL:https://lithiaspringsmethodist.org/calendar/prayer-group-7/
END:VEVENT
BEGIN:VEVENT
DTSTART;TZID=America/New_York:20250225T190000
DTEND;TZID=America/New_York:20250225T200000
DTSTAMP:20260425T223600
CREATED:20250223T043027Z
LAST-MODIFIED:20250405T162837Z
UID:2461-1740510000-1740513600@lithiaspringsmethodist.org
SUMMARY:Finance
DESCRIPTION:
URL:https://lithiaspringsmethodist.org/calendar/finance-2/
END:VEVENT
BEGIN:VEVENT
DTSTART;TZID=America/New_York:20250225T100000
DTEND;TZID=America/New_York:20250225T110000
DTSTAMP:20260425T223600
CREATED:20250223T043027Z
LAST-MODIFIED:20250405T162837Z
UID:2460-1740477600-1740481200@lithiaspringsmethodist.org
SUMMARY:Fully Devoted Bible Study
DESCRIPTION:
URL:https://lithiaspringsmethodist.org/calendar/fully-devoted-bible-study-4/
END:VEVENT
BEGIN:VEVENT
DTSTART;TZID=America/New_York:20250224T190000
DTEND;TZID=America/New_York:20250224T200000
DTSTAMP:20260425T223600
CREATED:20250223T043026Z
LAST-MODIFIED:20250405T162837Z
UID:2459-1740423600-1740427200@lithiaspringsmethodist.org
SUMMARY:Boy Scouts Troop 62
DESCRIPTION:
URL:https://lithiaspringsmethodist.org/calendar/boy-scouts-troop-62-7/
END:VEVENT
BEGIN:VEVENT
DTSTART;TZID=America/New_York:20250223T110000
DTEND;TZID=America/New_York:20250223T120000
DTSTAMP:20260425T223600
CREATED:20250125T220341Z
LAST-MODIFIED:20250125T221642Z
UID:2021-1740308400-1740312000@lithiaspringsmethodist.org
SUMMARY:Worship Service
DESCRIPTION:
URL:https://lithiaspringsmethodist.org/calendar/worship-service-7/
END:VEVENT
END:VCALENDAR