BEGIN:VCALENDAR
VERSION:2.0
PRODID:-//Lithia Springs Methodist Church - ECPv6.15.20//NONSGML v1.0//EN
CALSCALE:GREGORIAN
METHOD:PUBLISH
X-ORIGINAL-URL:https://lithiaspringsmethodist.org
X-WR-CALDESC:Events for Lithia Springs Methodist Church
REFRESH-INTERVAL;VALUE=DURATION:PT1H
X-Robots-Tag:noindex
X-PUBLISHED-TTL:PT1H
BEGIN:VTIMEZONE
TZID:America/New_York
BEGIN:DAYLIGHT
TZOFFSETFROM:-0500
TZOFFSETTO:-0400
TZNAME:EDT
DTSTART:20240310T070000
END:DAYLIGHT
BEGIN:STANDARD
TZOFFSETFROM:-0400
TZOFFSETTO:-0500
TZNAME:EST
DTSTART:20241103T060000
END:STANDARD
BEGIN:DAYLIGHT
TZOFFSETFROM:-0500
TZOFFSETTO:-0400
TZNAME:EDT
DTSTART:20250309T070000
END:DAYLIGHT
BEGIN:STANDARD
TZOFFSETFROM:-0400
TZOFFSETTO:-0500
TZNAME:EST
DTSTART:20251102T060000
END:STANDARD
BEGIN:DAYLIGHT
TZOFFSETFROM:-0500
TZOFFSETTO:-0400
TZNAME:EDT
DTSTART:20260308T070000
END:DAYLIGHT
BEGIN:STANDARD
TZOFFSETFROM:-0400
TZOFFSETTO:-0500
TZNAME:EST
DTSTART:20261101T060000
END:STANDARD
END:VTIMEZONE
BEGIN:VEVENT
DTSTART;TZID=America/New_York:20250902T190000
DTEND;TZID=America/New_York:20250902T210000
DTSTAMP:20260425T125000
CREATED:20250424T184906Z
LAST-MODIFIED:20250424T184906Z
UID:2912-1756839600-1756846800@lithiaspringsmethodist.org
SUMMARY:Administrative Council Meeting
DESCRIPTION:
URL:https://lithiaspringsmethodist.org/calendar/administrative-council-meeting-3/
END:VEVENT
BEGIN:VEVENT
DTSTART;TZID=America/New_York:20250902T100000
DTEND;TZID=America/New_York:20250902T110000
DTSTAMP:20260425T125000
CREATED:20250722T153653Z
LAST-MODIFIED:20250722T153653Z
UID:3650-1756807200-1756810800@lithiaspringsmethodist.org
SUMMARY:Not My Jesus Bible Study
DESCRIPTION:
URL:https://lithiaspringsmethodist.org/calendar/not-my-jesus-bible-study-6/
LOCATION:Children’s Building
END:VEVENT
BEGIN:VEVENT
DTSTART;TZID=America/New_York:20250901T190000
DTEND;TZID=America/New_York:20250901T203000
DTSTAMP:20260425T125000
CREATED:20250516T143553Z
LAST-MODIFIED:20250516T143553Z
UID:3339-1756753200-1756758600@lithiaspringsmethodist.org
SUMMARY:Boy Scouts Troop 62
DESCRIPTION:
URL:https://lithiaspringsmethodist.org/calendar/boy-scouts-troop-62-31/
LOCATION:Fellowship Hall
END:VEVENT
BEGIN:VEVENT
DTSTART;TZID=America/New_York:20250901T190000
DTEND;TZID=America/New_York:20250901T200000
DTSTAMP:20260425T125000
CREATED:20250722T153619Z
LAST-MODIFIED:20250722T153619Z
UID:3648-1756753200-1756756800@lithiaspringsmethodist.org
SUMMARY:Not My Jesus Bible Study
DESCRIPTION:
URL:https://lithiaspringsmethodist.org/calendar/not-my-jesus-bible-study-5/
LOCATION:Children’s Building
END:VEVENT
BEGIN:VEVENT
DTSTART;TZID=America/New_York:20250901T000000
DTEND;TZID=America/New_York:20250901T235959
DTSTAMP:20260425T125000
CREATED:20250424T184824Z
LAST-MODIFIED:20250424T184824Z
UID:2909-1756684800-1756771199@lithiaspringsmethodist.org
SUMMARY:Labor Day - Church Office Closed
DESCRIPTION:
URL:https://lithiaspringsmethodist.org/calendar/labor-day-church-office-closed/
END:VEVENT
BEGIN:VEVENT
DTSTART;TZID=America/New_York:20250831T120000
DTEND;TZID=America/New_York:20250831T140000
DTSTAMP:20260425T125000
CREATED:20250827T163255Z
LAST-MODIFIED:20250827T163255Z
UID:3777-1756641600-1756648800@lithiaspringsmethodist.org
SUMMARY:Acolyte Training
DESCRIPTION:Meet after worship in the Children’s Building for lunch and a refresher course!
URL:https://lithiaspringsmethodist.org/calendar/acolyte-training/
LOCATION:Children’s Building
END:VEVENT
BEGIN:VEVENT
DTSTART;TZID=America/New_York:20250831T110000
DTEND;TZID=America/New_York:20250831T120000
DTSTAMP:20260425T125000
CREATED:20250125T220741Z
LAST-MODIFIED:20250125T221238Z
UID:2102-1756638000-1756641600@lithiaspringsmethodist.org
SUMMARY:Worship Service
DESCRIPTION:
URL:https://lithiaspringsmethodist.org/calendar/worship-service-34/
END:VEVENT
BEGIN:VEVENT
DTSTART;TZID=America/New_York:20250831T094500
DTEND;TZID=America/New_York:20250831T104500
DTSTAMP:20260425T125000
CREATED:20250125T220741Z
LAST-MODIFIED:20250125T221238Z
UID:2101-1756633500-1756637100@lithiaspringsmethodist.org
SUMMARY:Children's Sunday School
DESCRIPTION:
URL:https://lithiaspringsmethodist.org/calendar/childrens-sunday-school-34/
END:VEVENT
BEGIN:VEVENT
DTSTART;TZID=America/New_York:20250831T094500
DTEND;TZID=America/New_York:20250831T104500
DTSTAMP:20260425T125000
CREATED:20250125T220741Z
LAST-MODIFIED:20250125T221238Z
UID:2100-1756633500-1756637100@lithiaspringsmethodist.org
SUMMARY:Adult Sunday School
DESCRIPTION:
URL:https://lithiaspringsmethodist.org/calendar/adult-sunday-school-34/
END:VEVENT
BEGIN:VEVENT
DTSTART;TZID=America/New_York:20250827T194500
DTEND;TZID=America/New_York:20250827T204500
DTSTAMP:20260425T125000
CREATED:20250514T162146Z
LAST-MODIFIED:20250514T162146Z
UID:3260-1756323900-1756327500@lithiaspringsmethodist.org
SUMMARY:Chancel Choir
DESCRIPTION:
URL:https://lithiaspringsmethodist.org/calendar/chancel-choir-18/
LOCATION:Sanctuary
END:VEVENT
BEGIN:VEVENT
DTSTART;TZID=America/New_York:20250827T184500
DTEND;TZID=America/New_York:20250827T194500
DTSTAMP:20260425T125000
CREATED:20250514T155708Z
LAST-MODIFIED:20250514T155708Z
UID:3191-1756320300-1756323900@lithiaspringsmethodist.org
SUMMARY:Handbell Choir
DESCRIPTION:
URL:https://lithiaspringsmethodist.org/calendar/handbell-choir-18/
LOCATION:Third Floor
END:VEVENT
BEGIN:VEVENT
DTSTART;TZID=America/New_York:20250827T180000
DTEND;TZID=America/New_York:20250827T203000
DTSTAMP:20260425T125000
CREATED:20250424T184755Z
LAST-MODIFIED:20250424T184755Z
UID:2906-1756317600-1756326600@lithiaspringsmethodist.org
SUMMARY:Family Fun Night
DESCRIPTION:
URL:https://lithiaspringsmethodist.org/calendar/family-fun-night-5/
END:VEVENT
BEGIN:VEVENT
DTSTART;TZID=America/New_York:20250827T170000
DTEND;TZID=America/New_York:20250827T190000
DTSTAMP:20260425T125000
CREATED:20250513T155259Z
LAST-MODIFIED:20250513T155259Z
UID:3126-1756314000-1756321200@lithiaspringsmethodist.org
SUMMARY:Prayer Group
DESCRIPTION:
URL:https://lithiaspringsmethodist.org/calendar/prayer-group-29/
LOCATION:Conference Room
END:VEVENT
BEGIN:VEVENT
DTSTART;TZID=America/New_York:20250826T190000
DTEND;TZID=America/New_York:20250826T210000
DTSTAMP:20260425T125000
CREATED:20250424T184723Z
LAST-MODIFIED:20250424T184723Z
UID:2903-1756234800-1756242000@lithiaspringsmethodist.org
SUMMARY:Finance Committee Meeting
DESCRIPTION:
URL:https://lithiaspringsmethodist.org/calendar/finance-committee-meeting-3/
END:VEVENT
BEGIN:VEVENT
DTSTART;TZID=America/New_York:20250826T100000
DTEND;TZID=America/New_York:20250826T110000
DTSTAMP:20260425T125000
CREATED:20250722T153518Z
LAST-MODIFIED:20250722T153518Z
UID:3646-1756202400-1756206000@lithiaspringsmethodist.org
SUMMARY:Not My Jesus Bible Study
DESCRIPTION:
URL:https://lithiaspringsmethodist.org/calendar/not-my-jesus-bible-study-4/
LOCATION:Children’s Building
END:VEVENT
BEGIN:VEVENT
DTSTART;TZID=America/New_York:20250825T190000
DTEND;TZID=America/New_York:20250825T203000
DTSTAMP:20260425T125000
CREATED:20250516T143518Z
LAST-MODIFIED:20250516T143518Z
UID:3337-1756148400-1756153800@lithiaspringsmethodist.org
SUMMARY:Boy Scouts Troop 62
DESCRIPTION:
URL:https://lithiaspringsmethodist.org/calendar/boy-scouts-troop-62-30/
LOCATION:Fellowship Hall
END:VEVENT
BEGIN:VEVENT
DTSTART;TZID=America/New_York:20250825T190000
DTEND;TZID=America/New_York:20250825T200000
DTSTAMP:20260425T125000
CREATED:20250722T153447Z
LAST-MODIFIED:20250722T153447Z
UID:3644-1756148400-1756152000@lithiaspringsmethodist.org
SUMMARY:Not My Jesus Bible Study
DESCRIPTION:
URL:https://lithiaspringsmethodist.org/calendar/not-my-jesus-bible-study-3/
LOCATION:Children’s Building
END:VEVENT
BEGIN:VEVENT
DTSTART;TZID=America/New_York:20250824T160000
DTEND;TZID=America/New_York:20250824T173000
DTSTAMP:20260425T125000
CREATED:20250807T163943Z
LAST-MODIFIED:20250807T163943Z
UID:3721-1756051200-1756056600@lithiaspringsmethodist.org
SUMMARY:Youth Group Ages 10+
DESCRIPTION:Youth Group Returns – Sunday\, August 24 at 4:00 PMYouth Group is back! All youth ages 10 and up are invited to join us on Sunday\, August 24 at 4:00 PM as we kick off a brand-new season of fun\, fellowship\, and faith. We’ll meet every other Sunday moving forward\, so mark your calendars! Don’t forget to bring the books we started over the summer—we’ll be picking up right where we left off. We can’t wait to see you there!
URL:https://lithiaspringsmethodist.org/calendar/youth-group-ages-10/
LOCATION:Children’s Building
END:VEVENT
BEGIN:VEVENT
DTSTART;TZID=America/New_York:20250824T110000
DTEND;TZID=America/New_York:20250824T120000
DTSTAMP:20260425T125000
CREATED:20250730T165726Z
LAST-MODIFIED:20250730T165726Z
UID:3709-1756033200-1756036800@lithiaspringsmethodist.org
SUMMARY:AWES Backpack Blessings
DESCRIPTION:Backpack Blessings – August 24 \nOur annual Backpack Blessings food drive is back\, and we need your help! On Saturday\, August 24\, we’ll collect food donations to support students at Annette Winn Elementary School. Each Friday\, the school staff discreetly places food into the backpacks of children who may not have enough to eat over the weekend. Your donations make a direct impact on a child’s life. \nPlease bring your donations to Lithia Springs Methodist Church and place them on the altar. \nRequested items include: \n\n\nRamen noodles \n\n\nMac and cheese cups \n\n\nIndividual cereal boxes \n\n\nCereal bars \n\n\nGranola bars \n\n\nCanned pasta (with pop tops) \n\n\nCanned spaghetti with meatballs \n\n\nVienna sausages \n\n\nBeanie weenies \n\n\nCanned meats (like tuna or chicken) \n\n\nCanned fruit \n\n\nPudding cups \n\n\nApplesauce cups \n\n\nFruit snacks \n\n\nCrackers (with peanut butter\, cheese\, or plain) \n\n\nChips (individual snack bags) \n\n\nJuice boxes \n\n\nShelf-stable milk boxes \n\n\nInstant oatmeal packets \n\n\nLet’s come together as a church family to bless our community’s children with food\, love\, and the reassurance that they’re not alone.
URL:https://lithiaspringsmethodist.org/calendar/awes-backpack-blessings/
LOCATION:Sanctuary
END:VEVENT
BEGIN:VEVENT
DTSTART;TZID=America/New_York:20250824T110000
DTEND;TZID=America/New_York:20250824T120000
DTSTAMP:20260425T125000
CREATED:20250125T220727Z
LAST-MODIFIED:20250125T221239Z
UID:2099-1756033200-1756036800@lithiaspringsmethodist.org
SUMMARY:Worship Service
DESCRIPTION:
URL:https://lithiaspringsmethodist.org/calendar/worship-service-33/
END:VEVENT
BEGIN:VEVENT
DTSTART;TZID=America/New_York:20250824T094500
DTEND;TZID=America/New_York:20250824T104500
DTSTAMP:20260425T125000
CREATED:20250125T220727Z
LAST-MODIFIED:20250125T221239Z
UID:2097-1756028700-1756032300@lithiaspringsmethodist.org
SUMMARY:Adult Sunday School
DESCRIPTION:
URL:https://lithiaspringsmethodist.org/calendar/adult-sunday-school-33/
END:VEVENT
BEGIN:VEVENT
DTSTART;TZID=America/New_York:20250824T094500
DTEND;TZID=America/New_York:20250824T104500
DTSTAMP:20260425T125000
CREATED:20250125T220727Z
LAST-MODIFIED:20250125T221239Z
UID:2098-1756028700-1756032300@lithiaspringsmethodist.org
SUMMARY:Children's Sunday School
DESCRIPTION:
URL:https://lithiaspringsmethodist.org/calendar/childrens-sunday-school-33/
END:VEVENT
BEGIN:VEVENT
DTSTART;TZID=America/New_York:20250821T190000
DTEND;TZID=America/New_York:20250821T210000
DTSTAMP:20260425T125000
CREATED:20250729T161858Z
LAST-MODIFIED:20250729T161858Z
UID:3697-1755802800-1755810000@lithiaspringsmethodist.org
SUMMARY:Kitchen Committee Meeting
DESCRIPTION:
URL:https://lithiaspringsmethodist.org/calendar/kitchen-committee-meeting/
LOCATION:Conference Room
END:VEVENT
BEGIN:VEVENT
DTSTART;TZID=America/New_York:20250820T194500
DTEND;TZID=America/New_York:20250820T204500
DTSTAMP:20260425T125000
CREATED:20250514T162121Z
LAST-MODIFIED:20250514T162121Z
UID:3258-1755719100-1755722700@lithiaspringsmethodist.org
SUMMARY:Chancel Choir
DESCRIPTION:
URL:https://lithiaspringsmethodist.org/calendar/chancel-choir-17/
LOCATION:Sanctuary
END:VEVENT
BEGIN:VEVENT
DTSTART;TZID=America/New_York:20250820T184500
DTEND;TZID=America/New_York:20250820T194500
DTSTAMP:20260425T125000
CREATED:20250514T155630Z
LAST-MODIFIED:20250514T155630Z
UID:3188-1755715500-1755719100@lithiaspringsmethodist.org
SUMMARY:Handbell Choir
DESCRIPTION:
URL:https://lithiaspringsmethodist.org/calendar/handbell-choir-17/
LOCATION:Third Floor
END:VEVENT
BEGIN:VEVENT
DTSTART;TZID=America/New_York:20250820T170000
DTEND;TZID=America/New_York:20250820T190000
DTSTAMP:20260425T125000
CREATED:20250513T154850Z
LAST-MODIFIED:20250513T154850Z
UID:3124-1755709200-1755716400@lithiaspringsmethodist.org
SUMMARY:Prayer Group
DESCRIPTION:
URL:https://lithiaspringsmethodist.org/calendar/prayer-group-28/
LOCATION:Conference Room
END:VEVENT
BEGIN:VEVENT
DTSTART;TZID=America/New_York:20250819T190000
DTEND;TZID=America/New_York:20250819T210000
DTSTAMP:20260425T125000
CREATED:20250424T184645Z
LAST-MODIFIED:20250424T184645Z
UID:2901-1755630000-1755637200@lithiaspringsmethodist.org
SUMMARY:Trustees
DESCRIPTION:
URL:https://lithiaspringsmethodist.org/calendar/trustees-7/
END:VEVENT
BEGIN:VEVENT
DTSTART;TZID=America/New_York:20250819T100000
DTEND;TZID=America/New_York:20250819T110000
DTSTAMP:20260425T125000
CREATED:20250722T153144Z
LAST-MODIFIED:20250722T153144Z
UID:3642-1755597600-1755601200@lithiaspringsmethodist.org
SUMMARY:Not My Jesus Bible Study
DESCRIPTION:Call the church office to reserve your spot and order your book.
URL:https://lithiaspringsmethodist.org/calendar/not-my-jesus-bible-study-2/
LOCATION:Children’s Building
END:VEVENT
BEGIN:VEVENT
DTSTART;TZID=America/New_York:20250818T190000
DTEND;TZID=America/New_York:20250818T203000
DTSTAMP:20260425T125000
CREATED:20250516T143447Z
LAST-MODIFIED:20250516T143447Z
UID:3335-1755543600-1755549000@lithiaspringsmethodist.org
SUMMARY:Boy Scouts Troop 62
DESCRIPTION:
URL:https://lithiaspringsmethodist.org/calendar/boy-scouts-troop-62-29/
LOCATION:Fellowship Hall
END:VEVENT
BEGIN:VEVENT
DTSTART;TZID=America/New_York:20250818T190000
DTEND;TZID=America/New_York:20250818T200000
DTSTAMP:20260425T125000
CREATED:20250722T152929Z
LAST-MODIFIED:20250722T152929Z
UID:3640-1755543600-1755547200@lithiaspringsmethodist.org
SUMMARY:Not My Jesus Bible Study
DESCRIPTION:Call the church office to reserve your spot and order your book.
URL:https://lithiaspringsmethodist.org/calendar/not-my-jesus-bible-study/
LOCATION:Children’s Building
END:VEVENT
END:VCALENDAR