BEGIN:VCALENDAR
VERSION:2.0
PRODID:-//Lithia Springs Methodist Church - ECPv6.15.20//NONSGML v1.0//EN
CALSCALE:GREGORIAN
METHOD:PUBLISH
X-WR-CALNAME:Lithia Springs Methodist Church
X-ORIGINAL-URL:https://lithiaspringsmethodist.org
X-WR-CALDESC:Events for Lithia Springs Methodist Church
REFRESH-INTERVAL;VALUE=DURATION:PT1H
X-Robots-Tag:noindex
X-PUBLISHED-TTL:PT1H
BEGIN:VTIMEZONE
TZID:America/New_York
BEGIN:DAYLIGHT
TZOFFSETFROM:-0500
TZOFFSETTO:-0400
TZNAME:EDT
DTSTART:20240310T070000
END:DAYLIGHT
BEGIN:STANDARD
TZOFFSETFROM:-0400
TZOFFSETTO:-0500
TZNAME:EST
DTSTART:20241103T060000
END:STANDARD
BEGIN:DAYLIGHT
TZOFFSETFROM:-0500
TZOFFSETTO:-0400
TZNAME:EDT
DTSTART:20250309T070000
END:DAYLIGHT
BEGIN:STANDARD
TZOFFSETFROM:-0400
TZOFFSETTO:-0500
TZNAME:EST
DTSTART:20251102T060000
END:STANDARD
BEGIN:DAYLIGHT
TZOFFSETFROM:-0500
TZOFFSETTO:-0400
TZNAME:EDT
DTSTART:20260308T070000
END:DAYLIGHT
BEGIN:STANDARD
TZOFFSETFROM:-0400
TZOFFSETTO:-0500
TZNAME:EST
DTSTART:20261101T060000
END:STANDARD
END:VTIMEZONE
BEGIN:VEVENT
DTSTART;TZID=America/New_York:20250810T110000
DTEND;TZID=America/New_York:20250810T120000
DTSTAMP:20260425T145333
CREATED:20250125T220711Z
LAST-MODIFIED:20250125T221302Z
UID:2093-1754823600-1754827200@lithiaspringsmethodist.org
SUMMARY:Worship Service
DESCRIPTION:
URL:https://lithiaspringsmethodist.org/calendar/worship-service-31/
END:VEVENT
BEGIN:VEVENT
DTSTART;TZID=America/New_York:20250810T094500
DTEND;TZID=America/New_York:20250810T104500
DTSTAMP:20260425T145333
CREATED:20250125T220711Z
LAST-MODIFIED:20250125T221302Z
UID:2091-1754819100-1754822700@lithiaspringsmethodist.org
SUMMARY:Adult Sunday School
DESCRIPTION:
URL:https://lithiaspringsmethodist.org/calendar/adult-sunday-school-31/
END:VEVENT
BEGIN:VEVENT
DTSTART;TZID=America/New_York:20250810T094500
DTEND;TZID=America/New_York:20250810T104500
DTSTAMP:20260425T145333
CREATED:20250125T220711Z
LAST-MODIFIED:20250125T221302Z
UID:2092-1754819100-1754822700@lithiaspringsmethodist.org
SUMMARY:Children's Sunday School
DESCRIPTION:
URL:https://lithiaspringsmethodist.org/calendar/childrens-sunday-school-31/
END:VEVENT
BEGIN:VEVENT
DTSTART;TZID=America/New_York:20250806T194500
DTEND;TZID=America/New_York:20250806T204500
DTSTAMP:20260425T145333
CREATED:20250514T162029Z
LAST-MODIFIED:20250514T162029Z
UID:3254-1754509500-1754513100@lithiaspringsmethodist.org
SUMMARY:Chancel Choir
DESCRIPTION:
URL:https://lithiaspringsmethodist.org/calendar/chancel-choir-15/
LOCATION:Sanctuary
END:VEVENT
BEGIN:VEVENT
DTSTART;TZID=America/New_York:20250806T184500
DTEND;TZID=America/New_York:20250806T194500
DTSTAMP:20260425T145333
CREATED:20250514T155329Z
LAST-MODIFIED:20250514T155329Z
UID:3184-1754505900-1754509500@lithiaspringsmethodist.org
SUMMARY:Handbell Choir
DESCRIPTION:
URL:https://lithiaspringsmethodist.org/calendar/handbell-choir-15/
LOCATION:Third Floor
END:VEVENT
BEGIN:VEVENT
DTSTART;TZID=America/New_York:20250806T170000
DTEND;TZID=America/New_York:20250806T190000
DTSTAMP:20260425T145333
CREATED:20250513T154645Z
LAST-MODIFIED:20250513T154645Z
UID:3120-1754499600-1754506800@lithiaspringsmethodist.org
SUMMARY:Prayer Group
DESCRIPTION:
URL:https://lithiaspringsmethodist.org/calendar/prayer-group-26/
LOCATION:Conference Room
END:VEVENT
BEGIN:VEVENT
DTSTART;TZID=America/New_York:20250806T000000
DTEND;TZID=America/New_York:20250806T235959
DTSTAMP:20260425T145333
CREATED:20250805T122039Z
LAST-MODIFIED:20250805T122039Z
UID:3717-1754438400-1754524799@lithiaspringsmethodist.org
SUMMARY:No Handbell Choir
DESCRIPTION:
URL:https://lithiaspringsmethodist.org/calendar/no-handbell-choir/
END:VEVENT
BEGIN:VEVENT
DTSTART;TZID=America/New_York:20250805T100000
DTEND;TZID=America/New_York:20250805T120000
DTSTAMP:20260425T145333
CREATED:20250707T174532Z
LAST-MODIFIED:20250707T174532Z
UID:3636-1754388000-1754395200@lithiaspringsmethodist.org
SUMMARY:Pre-Planning Seminar
DESCRIPTION:
URL:https://lithiaspringsmethodist.org/calendar/pre-planning-seminar/
END:VEVENT
BEGIN:VEVENT
DTSTART;TZID=America/New_York:20250804T190000
DTEND;TZID=America/New_York:20250804T203000
DTSTAMP:20260425T145333
CREATED:20250516T143337Z
LAST-MODIFIED:20250516T143337Z
UID:3331-1754334000-1754339400@lithiaspringsmethodist.org
SUMMARY:Boy Scouts Troop 62
DESCRIPTION:
URL:https://lithiaspringsmethodist.org/calendar/boy-scouts-troop-62-27/
LOCATION:Fellowship Hall
END:VEVENT
BEGIN:VEVENT
DTSTART;TZID=America/New_York:20250803T110000
DTEND;TZID=America/New_York:20250803T120000
DTSTAMP:20260425T145333
CREATED:20250125T220711Z
LAST-MODIFIED:20250125T221303Z
UID:2090-1754218800-1754222400@lithiaspringsmethodist.org
SUMMARY:Worship Service
DESCRIPTION:
URL:https://lithiaspringsmethodist.org/calendar/worship-service-30/
END:VEVENT
BEGIN:VEVENT
DTSTART;TZID=America/New_York:20250803T094500
DTEND;TZID=America/New_York:20250803T104500
DTSTAMP:20260425T145333
CREATED:20250125T220657Z
LAST-MODIFIED:20250125T221303Z
UID:2089-1754214300-1754217900@lithiaspringsmethodist.org
SUMMARY:Children's Sunday School
DESCRIPTION:
URL:https://lithiaspringsmethodist.org/calendar/childrens-sunday-school-30/
END:VEVENT
BEGIN:VEVENT
DTSTART;TZID=America/New_York:20250803T094500
DTEND;TZID=America/New_York:20250803T104500
DTSTAMP:20260425T145333
CREATED:20250125T220656Z
LAST-MODIFIED:20250125T221303Z
UID:2088-1754214300-1754217900@lithiaspringsmethodist.org
SUMMARY:Adult Sunday School
DESCRIPTION:
URL:https://lithiaspringsmethodist.org/calendar/adult-sunday-school-30/
END:VEVENT
BEGIN:VEVENT
DTSTART;TZID=America/New_York:20250731T183000
DTEND;TZID=America/New_York:20250731T193000
DTSTAMP:20260425T145333
CREATED:20250728T145452Z
LAST-MODIFIED:20250728T145452Z
UID:3682-1753986600-1753990200@lithiaspringsmethodist.org
SUMMARY:SPR Meeting
DESCRIPTION:
URL:https://lithiaspringsmethodist.org/calendar/spr-meeting-2/
LOCATION:Conference Room
END:VEVENT
BEGIN:VEVENT
DTSTART;TZID=America/New_York:20250730T180000
DTEND;TZID=America/New_York:20250730T193000
DTSTAMP:20260425T145333
CREATED:20250610T163340Z
LAST-MODIFIED:20250610T163340Z
UID:3464-1753898400-1753903800@lithiaspringsmethodist.org
SUMMARY:Youth Night
DESCRIPTION:
URL:https://lithiaspringsmethodist.org/calendar/youth-night-4/
LOCATION:Children’s Building
END:VEVENT
BEGIN:VEVENT
DTSTART;TZID=America/New_York:20250730T000000
DTEND;TZID=America/New_York:20250730T235959
DTSTAMP:20260425T145333
CREATED:20250514T161136Z
LAST-MODIFIED:20250514T161136Z
UID:3238-1753833600-1753919999@lithiaspringsmethodist.org
SUMMARY:No Handbell/Chancel Choir
DESCRIPTION:
URL:https://lithiaspringsmethodist.org/calendar/no-handbell-chancel-choir-9/
END:VEVENT
BEGIN:VEVENT
DTSTART;TZID=America/New_York:20250730T000000
DTEND;TZID=America/New_York:20250730T235959
DTSTAMP:20260425T145333
CREATED:20250513T154316Z
LAST-MODIFIED:20250701T162543Z
UID:3118-1753833600-1753919999@lithiaspringsmethodist.org
SUMMARY:No Prayer Group
DESCRIPTION:
URL:https://lithiaspringsmethodist.org/calendar/prayer-group-25/
LOCATION:Conference Room
END:VEVENT
BEGIN:VEVENT
DTSTART;TZID=America/New_York:20250728T190000
DTEND;TZID=America/New_York:20250728T203000
DTSTAMP:20260425T145333
CREATED:20250516T143219Z
LAST-MODIFIED:20250516T143219Z
UID:3329-1753729200-1753734600@lithiaspringsmethodist.org
SUMMARY:Boy Scouts Troop 62
DESCRIPTION:
URL:https://lithiaspringsmethodist.org/calendar/boy-scouts-troop-62-26/
LOCATION:Fellowship Hall
END:VEVENT
BEGIN:VEVENT
DTSTART;TZID=America/New_York:20250727T110000
DTEND;TZID=America/New_York:20250727T120000
DTSTAMP:20260425T145333
CREATED:20250701T162954Z
LAST-MODIFIED:20250701T162954Z
UID:3616-1753614000-1753617600@lithiaspringsmethodist.org
SUMMARY:Christmas in July Collection Day!
DESCRIPTION:
URL:https://lithiaspringsmethodist.org/calendar/christmas-in-july-collection-day/
LOCATION:Sanctuary
END:VEVENT
BEGIN:VEVENT
DTSTART;TZID=America/New_York:20250727T110000
DTEND;TZID=America/New_York:20250727T120000
DTSTAMP:20260425T145333
CREATED:20250125T220656Z
LAST-MODIFIED:20250125T221303Z
UID:2087-1753614000-1753617600@lithiaspringsmethodist.org
SUMMARY:Worship Service
DESCRIPTION:
URL:https://lithiaspringsmethodist.org/calendar/worship-service-29/
END:VEVENT
BEGIN:VEVENT
DTSTART;TZID=America/New_York:20250727T094500
DTEND;TZID=America/New_York:20250727T104500
DTSTAMP:20260425T145333
CREATED:20250125T220656Z
LAST-MODIFIED:20250125T221303Z
UID:2085-1753609500-1753613100@lithiaspringsmethodist.org
SUMMARY:Adult Sunday School
DESCRIPTION:
URL:https://lithiaspringsmethodist.org/calendar/adult-sunday-school-29/
END:VEVENT
BEGIN:VEVENT
DTSTART;TZID=America/New_York:20250727T094500
DTEND;TZID=America/New_York:20250727T104500
DTSTAMP:20260425T145333
CREATED:20250125T220656Z
LAST-MODIFIED:20250125T221303Z
UID:2086-1753609500-1753613100@lithiaspringsmethodist.org
SUMMARY:Children's Sunday School
DESCRIPTION:
URL:https://lithiaspringsmethodist.org/calendar/childrens-sunday-school-29/
END:VEVENT
BEGIN:VEVENT
DTSTART;TZID=America/New_York:20250723T180000
DTEND;TZID=America/New_York:20250723T203000
DTSTAMP:20260425T145333
CREATED:20250424T184338Z
LAST-MODIFIED:20250424T184338Z
UID:2892-1753293600-1753302600@lithiaspringsmethodist.org
SUMMARY:Family Fun Night
DESCRIPTION:
URL:https://lithiaspringsmethodist.org/calendar/family-fun-night-3/
END:VEVENT
BEGIN:VEVENT
DTSTART;TZID=America/New_York:20250723T000000
DTEND;TZID=America/New_York:20250723T235959
DTSTAMP:20260425T145333
CREATED:20250514T161115Z
LAST-MODIFIED:20250514T161115Z
UID:3236-1753228800-1753315199@lithiaspringsmethodist.org
SUMMARY:No Handbell/Chancel Choir
DESCRIPTION:
URL:https://lithiaspringsmethodist.org/calendar/no-handbell-chancel-choir-8/
END:VEVENT
BEGIN:VEVENT
DTSTART;TZID=America/New_York:20250723T000000
DTEND;TZID=America/New_York:20250723T235959
DTSTAMP:20260425T145333
CREATED:20250513T153956Z
LAST-MODIFIED:20250701T162426Z
UID:3116-1753228800-1753315199@lithiaspringsmethodist.org
SUMMARY:No Prayer Group
DESCRIPTION:
URL:https://lithiaspringsmethodist.org/calendar/prayer-group-24/
LOCATION:Conference Room
END:VEVENT
BEGIN:VEVENT
DTSTART;TZID=America/New_York:20250721T190000
DTEND;TZID=America/New_York:20250721T203000
DTSTAMP:20260425T145333
CREATED:20250516T143126Z
LAST-MODIFIED:20250516T143126Z
UID:3327-1753124400-1753129800@lithiaspringsmethodist.org
SUMMARY:Boy Scouts Troop 62
DESCRIPTION:
URL:https://lithiaspringsmethodist.org/calendar/boy-scouts-troop-62-25/
LOCATION:Fellowship Hall
END:VEVENT
BEGIN:VEVENT
DTSTART;TZID=America/New_York:20250720T120000
DTEND;TZID=America/New_York:20250720T170000
DTSTAMP:20260425T145333
CREATED:20250609T162457Z
LAST-MODIFIED:20250609T162457Z
UID:3455-1753012800-1753030800@lithiaspringsmethodist.org
SUMMARY:Luncheon in Honor of Kevin Livingston
DESCRIPTION:
URL:https://lithiaspringsmethodist.org/calendar/luncheon-in-honor-of-kevin-livingston/
LOCATION:Fellowship Hall
END:VEVENT
BEGIN:VEVENT
DTSTART;TZID=America/New_York:20250720T110000
DTEND;TZID=America/New_York:20250720T120000
DTSTAMP:20260425T145333
CREATED:20250701T162844Z
LAST-MODIFIED:20250701T162844Z
UID:3614-1753009200-1753012800@lithiaspringsmethodist.org
SUMMARY:Christmas in July - Operation Christmas Child Shoeboxes
DESCRIPTION:
URL:https://lithiaspringsmethodist.org/calendar/christmas-in-july-operation-christmas-child-shoeboxes/
LOCATION:Sanctuary
END:VEVENT
BEGIN:VEVENT
DTSTART;TZID=America/New_York:20250720T110000
DTEND;TZID=America/New_York:20250720T120000
DTSTAMP:20260425T145333
CREATED:20250125T220642Z
LAST-MODIFIED:20250125T221304Z
UID:2084-1753009200-1753012800@lithiaspringsmethodist.org
SUMMARY:Worship Service
DESCRIPTION:
URL:https://lithiaspringsmethodist.org/calendar/worship-service-28/
END:VEVENT
BEGIN:VEVENT
DTSTART;TZID=America/New_York:20250720T094500
DTEND;TZID=America/New_York:20250720T104500
DTSTAMP:20260425T145333
CREATED:20250125T220642Z
LAST-MODIFIED:20250125T221304Z
UID:2083-1753004700-1753008300@lithiaspringsmethodist.org
SUMMARY:Children's Sunday School
DESCRIPTION:
URL:https://lithiaspringsmethodist.org/calendar/childrens-sunday-school-28/
END:VEVENT
BEGIN:VEVENT
DTSTART;TZID=America/New_York:20250720T094500
DTEND;TZID=America/New_York:20250720T104500
DTSTAMP:20260425T145333
CREATED:20250125T220641Z
LAST-MODIFIED:20250125T221304Z
UID:2082-1753004700-1753008300@lithiaspringsmethodist.org
SUMMARY:Adult Sunday School
DESCRIPTION:
URL:https://lithiaspringsmethodist.org/calendar/adult-sunday-school-28/
END:VEVENT
END:VCALENDAR