BEGIN:VCALENDAR
VERSION:2.0
PRODID:-//Lithia Springs Methodist Church - ECPv6.15.20//NONSGML v1.0//EN
CALSCALE:GREGORIAN
METHOD:PUBLISH
X-WR-CALNAME:Lithia Springs Methodist Church
X-ORIGINAL-URL:https://lithiaspringsmethodist.org
X-WR-CALDESC:Events for Lithia Springs Methodist Church
REFRESH-INTERVAL;VALUE=DURATION:PT1H
X-Robots-Tag:noindex
X-PUBLISHED-TTL:PT1H
BEGIN:VTIMEZONE
TZID:America/New_York
BEGIN:DAYLIGHT
TZOFFSETFROM:-0500
TZOFFSETTO:-0400
TZNAME:EDT
DTSTART:20240310T070000
END:DAYLIGHT
BEGIN:STANDARD
TZOFFSETFROM:-0400
TZOFFSETTO:-0500
TZNAME:EST
DTSTART:20241103T060000
END:STANDARD
BEGIN:DAYLIGHT
TZOFFSETFROM:-0500
TZOFFSETTO:-0400
TZNAME:EDT
DTSTART:20250309T070000
END:DAYLIGHT
BEGIN:STANDARD
TZOFFSETFROM:-0400
TZOFFSETTO:-0500
TZNAME:EST
DTSTART:20251102T060000
END:STANDARD
BEGIN:DAYLIGHT
TZOFFSETFROM:-0500
TZOFFSETTO:-0400
TZNAME:EDT
DTSTART:20260308T070000
END:DAYLIGHT
BEGIN:STANDARD
TZOFFSETFROM:-0400
TZOFFSETTO:-0500
TZNAME:EST
DTSTART:20261101T060000
END:STANDARD
END:VTIMEZONE
BEGIN:VEVENT
DTSTART;TZID=America/New_York:20251202T180000
DTEND;TZID=America/New_York:20251202T200000
DTSTAMP:20260425T125106
CREATED:20251024T175950Z
LAST-MODIFIED:20251024T175950Z
UID:4246-1764698400-1764705600@lithiaspringsmethodist.org
SUMMARY:HVAC Committee Meeting
DESCRIPTION:
URL:https://lithiaspringsmethodist.org/calendar/hvac-committee-meeting-2/
END:VEVENT
BEGIN:VEVENT
DTSTART;TZID=America/New_York:20251202T170000
DTEND;TZID=America/New_York:20251202T200000
DTSTAMP:20260425T125106
CREATED:20250923T173159Z
LAST-MODIFIED:20250923T173159Z
UID:3893-1764694800-1764705600@lithiaspringsmethodist.org
SUMMARY:C.E. Mitchell Tutoring
DESCRIPTION:
URL:https://lithiaspringsmethodist.org/calendar/c-e-mitchell-tutoring-24/
LOCATION:Children’s Building
END:VEVENT
BEGIN:VEVENT
DTSTART;TZID=America/New_York:20251201T190000
DTEND;TZID=America/New_York:20251201T203000
DTSTAMP:20260425T125106
CREATED:20250516T144348Z
LAST-MODIFIED:20250516T144348Z
UID:3365-1764615600-1764621000@lithiaspringsmethodist.org
SUMMARY:Boy Scouts Troop 62
DESCRIPTION:
URL:https://lithiaspringsmethodist.org/calendar/boy-scouts-troop-62-44/
LOCATION:Fellowship Hall
END:VEVENT
BEGIN:VEVENT
DTSTART;TZID=America/New_York:20251201T180000
DTEND;TZID=America/New_York:20251201T190000
DTSTAMP:20260425T125106
CREATED:20251114T153440Z
LAST-MODIFIED:20251114T153440Z
UID:4305-1764612000-1764615600@lithiaspringsmethodist.org
SUMMARY:HFTB Planning Meeting
DESCRIPTION:
URL:https://lithiaspringsmethodist.org/calendar/hftb-planning-meeting-3/
LOCATION:Conference Room
END:VEVENT
BEGIN:VEVENT
DTSTART;TZID=America/New_York:20251201T170000
DTEND;TZID=America/New_York:20251201T200000
DTSTAMP:20260425T125106
CREATED:20250923T172739Z
LAST-MODIFIED:20250923T172739Z
UID:3890-1764608400-1764619200@lithiaspringsmethodist.org
SUMMARY:C.E. Mitchell Tutoring
DESCRIPTION:
URL:https://lithiaspringsmethodist.org/calendar/c-e-mitchell-tutoring-23/
LOCATION:Children’s Building
END:VEVENT
BEGIN:VEVENT
DTSTART;TZID=America/New_York:20251130T110000
DTEND;TZID=America/New_York:20251130T120000
DTSTAMP:20260425T125106
CREATED:20250424T190148Z
LAST-MODIFIED:20250424T190148Z
UID:2949-1764500400-1764504000@lithiaspringsmethodist.org
SUMMARY:Hanging of the Greens
DESCRIPTION:
URL:https://lithiaspringsmethodist.org/calendar/hanging-of-the-greens-2/
END:VEVENT
BEGIN:VEVENT
DTSTART;TZID=America/New_York:20251130T110000
DTEND;TZID=America/New_York:20251130T120000
DTSTAMP:20260425T125106
CREATED:20250125T220941Z
LAST-MODIFIED:20250125T221138Z
UID:2141-1764500400-1764504000@lithiaspringsmethodist.org
SUMMARY:Worship Service
DESCRIPTION:
URL:https://lithiaspringsmethodist.org/calendar/worship-service-47/
END:VEVENT
BEGIN:VEVENT
DTSTART;TZID=America/New_York:20251130T094500
DTEND;TZID=America/New_York:20251130T104500
DTSTAMP:20260425T125106
CREATED:20250125T220941Z
LAST-MODIFIED:20250125T221138Z
UID:2140-1764495900-1764499500@lithiaspringsmethodist.org
SUMMARY:Children's Sunday School
DESCRIPTION:
URL:https://lithiaspringsmethodist.org/calendar/childrens-sunday-school-47/
END:VEVENT
BEGIN:VEVENT
DTSTART;TZID=America/New_York:20251130T094500
DTEND;TZID=America/New_York:20251130T104500
DTSTAMP:20260425T125106
CREATED:20250125T220927Z
LAST-MODIFIED:20250125T221138Z
UID:2139-1764495900-1764499500@lithiaspringsmethodist.org
SUMMARY:Adult Sunday School
DESCRIPTION:
URL:https://lithiaspringsmethodist.org/calendar/adult-sunday-school-47/
END:VEVENT
BEGIN:VEVENT
DTSTART;TZID=America/New_York:20251127T000000
DTEND;TZID=America/New_York:20251128T235959
DTSTAMP:20260425T125106
CREATED:20250424T190104Z
LAST-MODIFIED:20251120T202806Z
UID:2947-1764201600-1764374399@lithiaspringsmethodist.org
SUMMARY:Thanksgiving - Church Office Closed
DESCRIPTION:
URL:https://lithiaspringsmethodist.org/calendar/thanksgiving-church-office-closed/
END:VEVENT
BEGIN:VEVENT
DTSTART;TZID=America/New_York:20251126T000000
DTEND;TZID=America/New_York:20251126T235959
DTSTAMP:20260425T125106
CREATED:20251120T203458Z
LAST-MODIFIED:20251120T203458Z
UID:4330-1764115200-1764201599@lithiaspringsmethodist.org
SUMMARY:No Prayer Group
DESCRIPTION:
URL:https://lithiaspringsmethodist.org/calendar/no-prayer-group/
END:VEVENT
BEGIN:VEVENT
DTSTART;TZID=America/New_York:20251126T000000
DTEND;TZID=America/New_York:20251126T235959
DTSTAMP:20260425T125106
CREATED:20250514T160429Z
LAST-MODIFIED:20250514T160429Z
UID:3218-1764115200-1764201599@lithiaspringsmethodist.org
SUMMARY:No Handbell/Chancel Choir
DESCRIPTION:
URL:https://lithiaspringsmethodist.org/calendar/no-handbell-chancel-choir/
END:VEVENT
BEGIN:VEVENT
DTSTART;TZID=America/New_York:20251124T190000
DTEND;TZID=America/New_York:20251124T203000
DTSTAMP:20260425T125106
CREATED:20250516T144312Z
LAST-MODIFIED:20250516T144312Z
UID:3363-1764010800-1764016200@lithiaspringsmethodist.org
SUMMARY:Boy Scouts Troop 62
DESCRIPTION:
URL:https://lithiaspringsmethodist.org/calendar/boy-scouts-troop-62-43/
LOCATION:Fellowship Hall
END:VEVENT
BEGIN:VEVENT
DTSTART;TZID=America/New_York:20251123T150000
DTEND;TZID=America/New_York:20251123T170000
DTSTAMP:20260425T125106
CREATED:20250812T154042Z
LAST-MODIFIED:20250812T154042Z
UID:3747-1763910000-1763917200@lithiaspringsmethodist.org
SUMMARY:CHARGE CONFERENCE
DESCRIPTION:
URL:https://lithiaspringsmethodist.org/calendar/charge-conference/
LOCATION:Sanctuary
END:VEVENT
BEGIN:VEVENT
DTSTART;TZID=America/New_York:20251123T110000
DTEND;TZID=America/New_York:20251123T120000
DTSTAMP:20260425T125106
CREATED:20250125T220927Z
LAST-MODIFIED:20250125T221138Z
UID:2138-1763895600-1763899200@lithiaspringsmethodist.org
SUMMARY:Worship Service
DESCRIPTION:
URL:https://lithiaspringsmethodist.org/calendar/worship-service-46/
END:VEVENT
BEGIN:VEVENT
DTSTART;TZID=America/New_York:20251123T094500
DTEND;TZID=America/New_York:20251123T104500
DTSTAMP:20260425T125106
CREATED:20250125T220927Z
LAST-MODIFIED:20250125T221138Z
UID:2137-1763891100-1763894700@lithiaspringsmethodist.org
SUMMARY:Children's Sunday School
DESCRIPTION:
URL:https://lithiaspringsmethodist.org/calendar/childrens-sunday-school-46/
END:VEVENT
BEGIN:VEVENT
DTSTART;TZID=America/New_York:20251123T094500
DTEND;TZID=America/New_York:20251123T104500
DTSTAMP:20260425T125106
CREATED:20250125T220926Z
LAST-MODIFIED:20250125T221138Z
UID:2136-1763891100-1763894700@lithiaspringsmethodist.org
SUMMARY:Adult Sunday School
DESCRIPTION:
URL:https://lithiaspringsmethodist.org/calendar/adult-sunday-school-46/
END:VEVENT
BEGIN:VEVENT
DTSTART;TZID=America/New_York:20251119T194500
DTEND;TZID=America/New_York:20251119T204500
DTSTAMP:20260425T125106
CREATED:20250514T162732Z
LAST-MODIFIED:20250514T162732Z
UID:3284-1763581500-1763585100@lithiaspringsmethodist.org
SUMMARY:Chancel Choir
DESCRIPTION:
URL:https://lithiaspringsmethodist.org/calendar/chancel-choir-30/
LOCATION:Sanctuary
END:VEVENT
BEGIN:VEVENT
DTSTART;TZID=America/New_York:20251119T184500
DTEND;TZID=America/New_York:20251119T194500
DTSTAMP:20260425T125106
CREATED:20250514T160334Z
LAST-MODIFIED:20250514T160334Z
UID:3216-1763577900-1763581500@lithiaspringsmethodist.org
SUMMARY:Handbell Choir
DESCRIPTION:
URL:https://lithiaspringsmethodist.org/calendar/handbell-choir-30/
LOCATION:Third Floor
END:VEVENT
BEGIN:VEVENT
DTSTART;TZID=America/New_York:20251119T160000
DTEND;TZID=America/New_York:20251119T180000
DTSTAMP:20260425T125106
CREATED:20250513T161602Z
LAST-MODIFIED:20251016T141749Z
UID:3152-1763568000-1763575200@lithiaspringsmethodist.org
SUMMARY:Prayer Group
DESCRIPTION:
URL:https://lithiaspringsmethodist.org/calendar/prayer-group-40/
LOCATION:Conference Room
END:VEVENT
BEGIN:VEVENT
DTSTART;TZID=America/New_York:20251118T180000
DTEND;TZID=America/New_York:20251118T200000
DTSTAMP:20260425T125106
CREATED:20250923T175738Z
LAST-MODIFIED:20250923T175738Z
UID:3914-1763488800-1763496000@lithiaspringsmethodist.org
SUMMARY:Trustees
DESCRIPTION:
URL:https://lithiaspringsmethodist.org/calendar/trustees-10/
LOCATION:Conference Room
END:VEVENT
BEGIN:VEVENT
DTSTART;TZID=America/New_York:20251117T190000
DTEND;TZID=America/New_York:20251117T203000
DTSTAMP:20260425T125106
CREATED:20250516T144241Z
LAST-MODIFIED:20250516T144241Z
UID:3361-1763406000-1763411400@lithiaspringsmethodist.org
SUMMARY:Boy Scouts Troop 62
DESCRIPTION:
URL:https://lithiaspringsmethodist.org/calendar/boy-scouts-troop-62-42/
LOCATION:Fellowship Hall
END:VEVENT
BEGIN:VEVENT
DTSTART;TZID=America/New_York:20251116T110000
DTEND;TZID=America/New_York:20251116T120000
DTSTAMP:20260425T125106
CREATED:20250125T220926Z
LAST-MODIFIED:20250125T221139Z
UID:2135-1763290800-1763294400@lithiaspringsmethodist.org
SUMMARY:Worship Service
DESCRIPTION:
URL:https://lithiaspringsmethodist.org/calendar/worship-service-45/
END:VEVENT
BEGIN:VEVENT
DTSTART;TZID=America/New_York:20251116T094500
DTEND;TZID=America/New_York:20251116T104500
DTSTAMP:20260425T125106
CREATED:20250125T220912Z
LAST-MODIFIED:20250125T221139Z
UID:2134-1763286300-1763289900@lithiaspringsmethodist.org
SUMMARY:Children's Sunday School
DESCRIPTION:
URL:https://lithiaspringsmethodist.org/calendar/childrens-sunday-school-45/
END:VEVENT
BEGIN:VEVENT
DTSTART;TZID=America/New_York:20251116T094500
DTEND;TZID=America/New_York:20251116T104500
DTSTAMP:20260425T125106
CREATED:20250125T220911Z
LAST-MODIFIED:20250125T221209Z
UID:2133-1763286300-1763289900@lithiaspringsmethodist.org
SUMMARY:Adult Sunday School
DESCRIPTION:
URL:https://lithiaspringsmethodist.org/calendar/adult-sunday-school-45/
END:VEVENT
BEGIN:VEVENT
DTSTART;TZID=America/New_York:20251115T140000
DTEND;TZID=America/New_York:20251115T160000
DTSTAMP:20260425T125106
CREATED:20251030T151550Z
LAST-MODIFIED:20251030T151550Z
UID:4277-1763215200-1763222400@lithiaspringsmethodist.org
SUMMARY:Shoebox Packing Party
DESCRIPTION:
URL:https://lithiaspringsmethodist.org/calendar/shoebox-packing-party/
LOCATION:Fellowship Hall
END:VEVENT
BEGIN:VEVENT
DTSTART;TZID=America/New_York:20251115T100000
DTEND;TZID=America/New_York:20251115T120000
DTSTAMP:20260425T125106
CREATED:20250424T190021Z
LAST-MODIFIED:20250424T190021Z
UID:2945-1763200800-1763208000@lithiaspringsmethodist.org
SUMMARY:Sara Bowden Methodist Women's Group
DESCRIPTION:
URL:https://lithiaspringsmethodist.org/calendar/sara-bowden-methodist-womens-group-6/
END:VEVENT
BEGIN:VEVENT
DTSTART;TZID=America/New_York:20251113T180000
DTEND;TZID=America/New_York:20251113T190000
DTSTAMP:20260425T125106
CREATED:20251017T160511Z
LAST-MODIFIED:20251105T184138Z
UID:4229-1763056800-1763060400@lithiaspringsmethodist.org
SUMMARY:HFTB Planning Meeting
DESCRIPTION:
URL:https://lithiaspringsmethodist.org/calendar/hftb-planning-meeting-2/
END:VEVENT
BEGIN:VEVENT
DTSTART;TZID=America/New_York:20251113T170000
DTEND;TZID=America/New_York:20251113T200000
DTSTAMP:20260425T125106
CREATED:20250923T172519Z
LAST-MODIFIED:20250923T172519Z
UID:3880-1763053200-1763064000@lithiaspringsmethodist.org
SUMMARY:C.E. Mitchell Tutoring
DESCRIPTION:
URL:https://lithiaspringsmethodist.org/calendar/c-e-mitchell-tutoring-19/
LOCATION:Children’s Building
END:VEVENT
BEGIN:VEVENT
DTSTART;TZID=America/New_York:20251113T120000
DTEND;TZID=America/New_York:20251113T140000
DTSTAMP:20260425T125106
CREATED:20251106T171824Z
LAST-MODIFIED:20251106T171824Z
UID:4284-1763035200-1763042400@lithiaspringsmethodist.org
SUMMARY:Shoebox Packing Party Prep
DESCRIPTION:
URL:https://lithiaspringsmethodist.org/calendar/shoebox-packing-party-prep/
LOCATION:Fellowship Hall
END:VEVENT
END:VCALENDAR