BEGIN:VCALENDAR
VERSION:2.0
PRODID:-//Lithia Springs Methodist Church - ECPv6.15.20//NONSGML v1.0//EN
CALSCALE:GREGORIAN
METHOD:PUBLISH
X-ORIGINAL-URL:https://lithiaspringsmethodist.org
X-WR-CALDESC:Events for Lithia Springs Methodist Church
REFRESH-INTERVAL;VALUE=DURATION:PT1H
X-Robots-Tag:noindex
X-PUBLISHED-TTL:PT1H
BEGIN:VTIMEZONE
TZID:America/New_York
BEGIN:DAYLIGHT
TZOFFSETFROM:-0500
TZOFFSETTO:-0400
TZNAME:EDT
DTSTART:20250309T070000
END:DAYLIGHT
BEGIN:STANDARD
TZOFFSETFROM:-0400
TZOFFSETTO:-0500
TZNAME:EST
DTSTART:20251102T060000
END:STANDARD
BEGIN:DAYLIGHT
TZOFFSETFROM:-0500
TZOFFSETTO:-0400
TZNAME:EDT
DTSTART:20260308T070000
END:DAYLIGHT
BEGIN:STANDARD
TZOFFSETFROM:-0400
TZOFFSETTO:-0500
TZNAME:EST
DTSTART:20261101T060000
END:STANDARD
BEGIN:DAYLIGHT
TZOFFSETFROM:-0500
TZOFFSETTO:-0400
TZNAME:EDT
DTSTART:20270314T070000
END:DAYLIGHT
BEGIN:STANDARD
TZOFFSETFROM:-0400
TZOFFSETTO:-0500
TZNAME:EST
DTSTART:20271107T060000
END:STANDARD
END:VTIMEZONE
BEGIN:VEVENT
DTSTART;TZID=America/New_York:20260405T000000
DTEND;TZID=America/New_York:20260405T235959
DTSTAMP:20260425T113548
CREATED:20260205T174035Z
LAST-MODIFIED:20260205T174035Z
UID:4863-1775347200-1775433599@lithiaspringsmethodist.org
SUMMARY:Easter
DESCRIPTION:
URL:https://lithiaspringsmethodist.org/calendar/easter/
END:VEVENT
BEGIN:VEVENT
DTSTART;TZID=America/New_York:20260405T094500
DTEND;TZID=America/New_York:20260405T224500
DTSTAMP:20260425T113548
CREATED:20260310T164348Z
LAST-MODIFIED:20260310T164348Z
UID:4944-1775382300-1775429100@lithiaspringsmethodist.org
SUMMARY:Adult & Children Sunday School
DESCRIPTION:
URL:https://lithiaspringsmethodist.org/calendar/adult-children-sunday-school-11/
END:VEVENT
BEGIN:VEVENT
DTSTART;TZID=America/New_York:20260405T110000
DTEND;TZID=America/New_York:20260405T120000
DTSTAMP:20260425T113548
CREATED:20260310T170157Z
LAST-MODIFIED:20260310T170157Z
UID:4975-1775386800-1775390400@lithiaspringsmethodist.org
SUMMARY:Worship Service
DESCRIPTION:
URL:https://lithiaspringsmethodist.org/calendar/worship-service-62/
LOCATION:Sanctuary
END:VEVENT
BEGIN:VEVENT
DTSTART;TZID=America/New_York:20260408T170000
DTEND;TZID=America/New_York:20260408T180000
DTSTAMP:20260425T113548
CREATED:20260205T170947Z
LAST-MODIFIED:20260205T170947Z
UID:4799-1775667600-1775671200@lithiaspringsmethodist.org
SUMMARY:Prayer Group
DESCRIPTION:
URL:https://lithiaspringsmethodist.org/calendar/prayer-group-57/
LOCATION:Conference Room
END:VEVENT
BEGIN:VEVENT
DTSTART;TZID=America/New_York:20260408T180000
DTEND;TZID=America/New_York:20260408T193000
DTSTAMP:20260425T113548
CREATED:20260205T170509Z
LAST-MODIFIED:20260205T170509Z
UID:4789-1775671200-1775676600@lithiaspringsmethodist.org
SUMMARY:Cub Scout Pack 62
DESCRIPTION:
URL:https://lithiaspringsmethodist.org/calendar/cub-scout-pack-62-13/
LOCATION:Children’s Building
END:VEVENT
BEGIN:VEVENT
DTSTART;TZID=America/New_York:20260408T184500
DTEND;TZID=America/New_York:20260408T193000
DTSTAMP:20260425T113548
CREATED:20260205T171426Z
LAST-MODIFIED:20260205T171426Z
UID:4809-1775673900-1775676600@lithiaspringsmethodist.org
SUMMARY:Handbell Choir
DESCRIPTION:
URL:https://lithiaspringsmethodist.org/calendar/handbell-choir-42/
LOCATION:Third Floor
END:VEVENT
BEGIN:VEVENT
DTSTART;TZID=America/New_York:20260408T194500
DTEND;TZID=America/New_York:20260408T203000
DTSTAMP:20260425T113548
CREATED:20260205T172032Z
LAST-MODIFIED:20260205T172032Z
UID:4819-1775677500-1775680200@lithiaspringsmethodist.org
SUMMARY:Chancel Choir
DESCRIPTION:
URL:https://lithiaspringsmethodist.org/calendar/chancel-choir-42/
LOCATION:Sanctuary
END:VEVENT
BEGIN:VEVENT
DTSTART;TZID=America/New_York:20260412T094500
DTEND;TZID=America/New_York:20260412T224500
DTSTAMP:20260425T113548
CREATED:20260310T164150Z
LAST-MODIFIED:20260310T164150Z
UID:4938-1775987100-1776033900@lithiaspringsmethodist.org
SUMMARY:Adult & Children Sunday School
DESCRIPTION:
URL:https://lithiaspringsmethodist.org/calendar/adult-children-sunday-school-8/
END:VEVENT
BEGIN:VEVENT
DTSTART;TZID=America/New_York:20260412T110000
DTEND;TZID=America/New_York:20260412T120000
DTSTAMP:20260425T113548
CREATED:20260310T170243Z
LAST-MODIFIED:20260310T170243Z
UID:4977-1775991600-1775995200@lithiaspringsmethodist.org
SUMMARY:Worship Service
DESCRIPTION:
URL:https://lithiaspringsmethodist.org/calendar/worship-service-63/
LOCATION:Sanctuary
END:VEVENT
BEGIN:VEVENT
DTSTART;TZID=America/New_York:20260413T170000
DTEND;TZID=America/New_York:20260413T200000
DTSTAMP:20260425T113548
CREATED:20260205T173026Z
LAST-MODIFIED:20260205T173026Z
UID:4841-1776099600-1776110400@lithiaspringsmethodist.org
SUMMARY:Tutoring
DESCRIPTION:
URL:https://lithiaspringsmethodist.org/calendar/tutoring-29/
LOCATION:Children’s Building
END:VEVENT
BEGIN:VEVENT
DTSTART;TZID=America/New_York:20260413T190000
DTEND;TZID=America/New_York:20260413T203000
DTSTAMP:20260425T113548
CREATED:20260205T173259Z
LAST-MODIFIED:20260205T173259Z
UID:4847-1776106800-1776112200@lithiaspringsmethodist.org
SUMMARY:Scout Troop 62
DESCRIPTION:
URL:https://lithiaspringsmethodist.org/calendar/scout-troop-62-11/
LOCATION:Fellowship Hall
END:VEVENT
BEGIN:VEVENT
DTSTART;TZID=America/New_York:20260414T170000
DTEND;TZID=America/New_York:20260414T200000
DTSTAMP:20260425T113548
CREATED:20260205T172735Z
LAST-MODIFIED:20260205T172735Z
UID:4835-1776186000-1776196800@lithiaspringsmethodist.org
SUMMARY:Tutoring
DESCRIPTION:
URL:https://lithiaspringsmethodist.org/calendar/tutoring-26/
LOCATION:Children’s Building
END:VEVENT
BEGIN:VEVENT
DTSTART;TZID=America/New_York:20260414T190000
DTEND;TZID=America/New_York:20260414T200000
DTSTAMP:20260425T113548
CREATED:20260205T173533Z
LAST-MODIFIED:20260205T173533Z
UID:4853-1776193200-1776196800@lithiaspringsmethodist.org
SUMMARY:Men’s Group
DESCRIPTION:
URL:https://lithiaspringsmethodist.org/calendar/mens-group-4/
LOCATION:Third Floor
END:VEVENT
BEGIN:VEVENT
DTSTART;TZID=America/New_York:20260415T170000
DTEND;TZID=America/New_York:20260415T180000
DTSTAMP:20260425T113548
CREATED:20260205T171031Z
LAST-MODIFIED:20260205T171031Z
UID:4801-1776272400-1776276000@lithiaspringsmethodist.org
SUMMARY:Prayer Group
DESCRIPTION:
URL:https://lithiaspringsmethodist.org/calendar/prayer-group-58/
LOCATION:Conference Room
END:VEVENT
BEGIN:VEVENT
DTSTART;TZID=America/New_York:20260415T180000
DTEND;TZID=America/New_York:20260415T193000
DTSTAMP:20260425T113548
CREATED:20260205T170556Z
LAST-MODIFIED:20260205T170751Z
UID:4791-1776276000-1776281400@lithiaspringsmethodist.org
SUMMARY:Cub Scout Pack 62
DESCRIPTION:
URL:https://lithiaspringsmethodist.org/calendar/cub-scout-pack-62-14/
LOCATION:Children’s Building
END:VEVENT
BEGIN:VEVENT
DTSTART;TZID=America/New_York:20260415T184500
DTEND;TZID=America/New_York:20260415T193000
DTSTAMP:20260425T113548
CREATED:20260205T171641Z
LAST-MODIFIED:20260205T171641Z
UID:4811-1776278700-1776281400@lithiaspringsmethodist.org
SUMMARY:Handbell Choir
DESCRIPTION:
URL:https://lithiaspringsmethodist.org/calendar/handbell-choir-43/
LOCATION:Third Floor
END:VEVENT
BEGIN:VEVENT
DTSTART;TZID=America/New_York:20260415T194500
DTEND;TZID=America/New_York:20260415T203000
DTSTAMP:20260425T113548
CREATED:20260205T172111Z
LAST-MODIFIED:20260205T172111Z
UID:4821-1776282300-1776285000@lithiaspringsmethodist.org
SUMMARY:Chancel Choir
DESCRIPTION:
URL:https://lithiaspringsmethodist.org/calendar/chancel-choir-43/
LOCATION:Sanctuary
END:VEVENT
BEGIN:VEVENT
DTSTART;TZID=America/New_York:20260416T170000
DTEND;TZID=America/New_York:20260416T200000
DTSTAMP:20260425T113548
CREATED:20260205T172520Z
LAST-MODIFIED:20260205T172520Z
UID:4829-1776358800-1776369600@lithiaspringsmethodist.org
SUMMARY:Tutoring
DESCRIPTION:
URL:https://lithiaspringsmethodist.org/calendar/tutoring-23/
LOCATION:Children’s Building
END:VEVENT
BEGIN:VEVENT
DTSTART;TZID=America/New_York:20260418T100000
DTEND;TZID=America/New_York:20260418T120000
DTSTAMP:20260425T113548
CREATED:20260205T173847Z
LAST-MODIFIED:20260205T173847Z
UID:4859-1776506400-1776513600@lithiaspringsmethodist.org
SUMMARY:Women’s Group
DESCRIPTION:
URL:https://lithiaspringsmethodist.org/calendar/womens-group-4/
LOCATION:Fellowship Hall
END:VEVENT
BEGIN:VEVENT
DTSTART;TZID=America/New_York:20260418T110000
DTEND;TZID=America/New_York:20260418T160000
DTSTAMP:20260425T113548
CREATED:20260310T170012Z
LAST-MODIFIED:20260310T170012Z
UID:4973-1776510000-1776528000@lithiaspringsmethodist.org
SUMMARY:Food Pantry
DESCRIPTION:
URL:https://lithiaspringsmethodist.org/calendar/food-pantry/
END:VEVENT
BEGIN:VEVENT
DTSTART;TZID=America/New_York:20260419T094500
DTEND;TZID=America/New_York:20260419T224500
DTSTAMP:20260425T113548
CREATED:20260310T164228Z
LAST-MODIFIED:20260310T164228Z
UID:4940-1776591900-1776638700@lithiaspringsmethodist.org
SUMMARY:Adult & Children Sunday School
DESCRIPTION:
URL:https://lithiaspringsmethodist.org/calendar/adult-children-sunday-school-9/
END:VEVENT
BEGIN:VEVENT
DTSTART;TZID=America/New_York:20260419T110000
DTEND;TZID=America/New_York:20260419T120000
DTSTAMP:20260425T113548
CREATED:20260310T170323Z
LAST-MODIFIED:20260310T170323Z
UID:4979-1776596400-1776600000@lithiaspringsmethodist.org
SUMMARY:Worship Service
DESCRIPTION:
URL:https://lithiaspringsmethodist.org/calendar/worship-service-64/
LOCATION:Sanctuary
END:VEVENT
BEGIN:VEVENT
DTSTART;TZID=America/New_York:20260420T170000
DTEND;TZID=America/New_York:20260420T200000
DTSTAMP:20260425T113548
CREATED:20260205T173105Z
LAST-MODIFIED:20260205T173105Z
UID:4843-1776704400-1776715200@lithiaspringsmethodist.org
SUMMARY:Tutoring
DESCRIPTION:
URL:https://lithiaspringsmethodist.org/calendar/tutoring-30/
LOCATION:Children’s Building
END:VEVENT
BEGIN:VEVENT
DTSTART;TZID=America/New_York:20260420T190000
DTEND;TZID=America/New_York:20260420T203000
DTSTAMP:20260425T113548
CREATED:20260205T173353Z
LAST-MODIFIED:20260205T173353Z
UID:4849-1776711600-1776717000@lithiaspringsmethodist.org
SUMMARY:Scout Troop 62
DESCRIPTION:
URL:https://lithiaspringsmethodist.org/calendar/scout-troop-62-12/
LOCATION:Fellowship Hall
END:VEVENT
BEGIN:VEVENT
DTSTART;TZID=America/New_York:20260421T170000
DTEND;TZID=America/New_York:20260421T200000
DTSTAMP:20260425T113548
CREATED:20260205T172908Z
LAST-MODIFIED:20260205T172908Z
UID:4837-1776790800-1776801600@lithiaspringsmethodist.org
SUMMARY:Tutoring
DESCRIPTION:
URL:https://lithiaspringsmethodist.org/calendar/tutoring-27/
LOCATION:Children’s Building
END:VEVENT
BEGIN:VEVENT
DTSTART;TZID=America/New_York:20260421T180000
DTEND;TZID=America/New_York:20260421T190000
DTSTAMP:20260425T113548
CREATED:20260205T173632Z
LAST-MODIFIED:20260205T173632Z
UID:4855-1776794400-1776798000@lithiaspringsmethodist.org
SUMMARY:Trustee’s
DESCRIPTION:
URL:https://lithiaspringsmethodist.org/calendar/trustees-14/
LOCATION:Conference Room
END:VEVENT
BEGIN:VEVENT
DTSTART;TZID=America/New_York:20260422T170000
DTEND;TZID=America/New_York:20260422T180000
DTSTAMP:20260425T113548
CREATED:20260205T171132Z
LAST-MODIFIED:20260205T171132Z
UID:4803-1776877200-1776880800@lithiaspringsmethodist.org
SUMMARY:Prayer Group
DESCRIPTION:
URL:https://lithiaspringsmethodist.org/calendar/prayer-group-59/
LOCATION:Conference Room
END:VEVENT
BEGIN:VEVENT
DTSTART;TZID=America/New_York:20260422T180000
DTEND;TZID=America/New_York:20260422T193000
DTSTAMP:20260425T113548
CREATED:20260205T170635Z
LAST-MODIFIED:20260205T170635Z
UID:4793-1776880800-1776886200@lithiaspringsmethodist.org
SUMMARY:Cub Scout Pack 62
DESCRIPTION:
URL:https://lithiaspringsmethodist.org/calendar/cub-scout-pack-62-15/
LOCATION:Children’s Building
END:VEVENT
BEGIN:VEVENT
DTSTART;TZID=America/New_York:20260422T184500
DTEND;TZID=America/New_York:20260422T193000
DTSTAMP:20260425T113548
CREATED:20260205T171735Z
LAST-MODIFIED:20260205T171735Z
UID:4813-1776883500-1776886200@lithiaspringsmethodist.org
SUMMARY:Handbell Choir
DESCRIPTION:
URL:https://lithiaspringsmethodist.org/calendar/handbell-choir-44/
LOCATION:Third Floor
END:VEVENT
BEGIN:VEVENT
DTSTART;TZID=America/New_York:20260422T194500
DTEND;TZID=America/New_York:20260422T203000
DTSTAMP:20260425T113548
CREATED:20260205T172148Z
LAST-MODIFIED:20260205T172148Z
UID:4823-1776887100-1776889800@lithiaspringsmethodist.org
SUMMARY:Chancel Choir
DESCRIPTION:
URL:https://lithiaspringsmethodist.org/calendar/chancel-choir-44/
LOCATION:Sanctuary
END:VEVENT
END:VCALENDAR