BEGIN:VCALENDAR
VERSION:2.0
PRODID:-//Lithia Springs Methodist Church - ECPv6.15.20//NONSGML v1.0//EN
CALSCALE:GREGORIAN
METHOD:PUBLISH
X-WR-CALNAME:Lithia Springs Methodist Church
X-ORIGINAL-URL:https://lithiaspringsmethodist.org
X-WR-CALDESC:Events for Lithia Springs Methodist Church
REFRESH-INTERVAL;VALUE=DURATION:PT1H
X-Robots-Tag:noindex
X-PUBLISHED-TTL:PT1H
BEGIN:VTIMEZONE
TZID:America/New_York
BEGIN:DAYLIGHT
TZOFFSETFROM:-0500
TZOFFSETTO:-0400
TZNAME:EDT
DTSTART:20250309T070000
END:DAYLIGHT
BEGIN:STANDARD
TZOFFSETFROM:-0400
TZOFFSETTO:-0500
TZNAME:EST
DTSTART:20251102T060000
END:STANDARD
BEGIN:DAYLIGHT
TZOFFSETFROM:-0500
TZOFFSETTO:-0400
TZNAME:EDT
DTSTART:20260308T070000
END:DAYLIGHT
BEGIN:STANDARD
TZOFFSETFROM:-0400
TZOFFSETTO:-0500
TZNAME:EST
DTSTART:20261101T060000
END:STANDARD
BEGIN:DAYLIGHT
TZOFFSETFROM:-0500
TZOFFSETTO:-0400
TZNAME:EDT
DTSTART:20270314T070000
END:DAYLIGHT
BEGIN:STANDARD
TZOFFSETFROM:-0400
TZOFFSETTO:-0500
TZNAME:EST
DTSTART:20271107T060000
END:STANDARD
END:VTIMEZONE
BEGIN:VEVENT
DTSTART;TZID=America/New_York:20260401T194500
DTEND;TZID=America/New_York:20260401T203000
DTSTAMP:20260425T120047
CREATED:20260205T171948Z
LAST-MODIFIED:20260205T171948Z
UID:4817-1775072700-1775075400@lithiaspringsmethodist.org
SUMMARY:Chancel Choir
DESCRIPTION:
URL:https://lithiaspringsmethodist.org/calendar/chancel-choir-41/
LOCATION:Sanctuary
END:VEVENT
BEGIN:VEVENT
DTSTART;TZID=America/New_York:20260401T184500
DTEND;TZID=America/New_York:20260401T193000
DTSTAMP:20260425T120047
CREATED:20260205T171324Z
LAST-MODIFIED:20260205T171324Z
UID:4807-1775069100-1775071800@lithiaspringsmethodist.org
SUMMARY:Handbell Choir
DESCRIPTION:
URL:https://lithiaspringsmethodist.org/calendar/handbell-choir-41/
LOCATION:Third Floor
END:VEVENT
BEGIN:VEVENT
DTSTART;TZID=America/New_York:20260401T180000
DTEND;TZID=America/New_York:20260401T193000
DTSTAMP:20260425T120047
CREATED:20260205T170350Z
LAST-MODIFIED:20260205T170350Z
UID:4787-1775066400-1775071800@lithiaspringsmethodist.org
SUMMARY:Cub Scout Pack 62
DESCRIPTION:
URL:https://lithiaspringsmethodist.org/calendar/cub-scout-pack-62-12/
LOCATION:Children’s Building
END:VEVENT
BEGIN:VEVENT
DTSTART;TZID=America/New_York:20260401T170000
DTEND;TZID=America/New_York:20260401T180000
DTSTAMP:20260425T120047
CREATED:20260205T170905Z
LAST-MODIFIED:20260205T170905Z
UID:4797-1775062800-1775066400@lithiaspringsmethodist.org
SUMMARY:Prayer Group
DESCRIPTION:
URL:https://lithiaspringsmethodist.org/calendar/prayer-group-56/
LOCATION:Conference Room
END:VEVENT
BEGIN:VEVENT
DTSTART;TZID=America/New_York:20260331T170000
DTEND;TZID=America/New_York:20260331T200000
DTSTAMP:20260425T120047
CREATED:20260115T182241Z
LAST-MODIFIED:20260115T182241Z
UID:4698-1774976400-1774987200@lithiaspringsmethodist.org
SUMMARY:Tutoring
DESCRIPTION:
URL:https://lithiaspringsmethodist.org/calendar/tutoring-21/
LOCATION:Children’s Building
END:VEVENT
BEGIN:VEVENT
DTSTART;TZID=America/New_York:20260330T190000
DTEND;TZID=America/New_York:20260330T200000
DTSTAMP:20260425T120047
CREATED:20260115T183539Z
LAST-MODIFIED:20260115T183539Z
UID:4708-1774897200-1774900800@lithiaspringsmethodist.org
SUMMARY:Scout Troop 62
DESCRIPTION:
URL:https://lithiaspringsmethodist.org/calendar/scout-troop-62-10/
LOCATION:Fellowship Hall
END:VEVENT
BEGIN:VEVENT
DTSTART;TZID=America/New_York:20260330T170000
DTEND;TZID=America/New_York:20260330T200000
DTSTAMP:20260425T120047
CREATED:20260115T182215Z
LAST-MODIFIED:20260115T182215Z
UID:4696-1774890000-1774900800@lithiaspringsmethodist.org
SUMMARY:Tutoring
DESCRIPTION:
URL:https://lithiaspringsmethodist.org/calendar/tutoring-20/
LOCATION:Children’s Building
END:VEVENT
BEGIN:VEVENT
DTSTART;TZID=America/New_York:20260329T110000
DTEND;TZID=America/New_York:20260329T120000
DTSTAMP:20260425T120047
CREATED:20260319T164309Z
LAST-MODIFIED:20260319T164309Z
UID:5061-1774782000-1774785600@lithiaspringsmethodist.org
SUMMARY:Easter Cantata Service
DESCRIPTION:
URL:https://lithiaspringsmethodist.org/calendar/easter-cantata-service/
END:VEVENT
BEGIN:VEVENT
DTSTART;TZID=America/New_York:20260329T110000
DTEND;TZID=America/New_York:20260329T120000
DTSTAMP:20260425T120047
CREATED:20260115T181429Z
LAST-MODIFIED:20260115T181429Z
UID:4670-1774782000-1774785600@lithiaspringsmethodist.org
SUMMARY:Easter Cantata
DESCRIPTION:
URL:https://lithiaspringsmethodist.org/calendar/easter-cantata/
LOCATION:Sanctuary
END:VEVENT
BEGIN:VEVENT
DTSTART;TZID=America/New_York:20260329T110000
DTEND;TZID=America/New_York:20260329T120000
DTSTAMP:20260425T120047
CREATED:20260115T181220Z
LAST-MODIFIED:20260115T181337Z
UID:4667-1774782000-1774785600@lithiaspringsmethodist.org
SUMMARY:Worship Service
DESCRIPTION:
URL:https://lithiaspringsmethodist.org/calendar/worship-service-61/
LOCATION:Sanctuary
END:VEVENT
BEGIN:VEVENT
DTSTART;TZID=America/New_York:20260329T094500
DTEND;TZID=America/New_York:20260329T104500
DTSTAMP:20260425T120047
CREATED:20260115T180956Z
LAST-MODIFIED:20260115T180956Z
UID:4657-1774777500-1774781100@lithiaspringsmethodist.org
SUMMARY:Adult & Children Sunday School
DESCRIPTION:
URL:https://lithiaspringsmethodist.org/calendar/adult-children-sunday-school-7/
END:VEVENT
BEGIN:VEVENT
DTSTART;TZID=America/New_York:20260329T000000
DTEND;TZID=America/New_York:20260329T235959
DTSTAMP:20260425T120047
CREATED:20260319T163544Z
LAST-MODIFIED:20260319T163544Z
UID:5059-1774742400-1774828799@lithiaspringsmethodist.org
SUMMARY:Palm Sunday
DESCRIPTION:
URL:https://lithiaspringsmethodist.org/calendar/palm-sunday/
END:VEVENT
BEGIN:VEVENT
DTSTART;TZID=America/New_York:20260326T170000
DTEND;TZID=America/New_York:20260326T200000
DTSTAMP:20260425T120047
CREATED:20260115T182144Z
LAST-MODIFIED:20260115T182144Z
UID:4694-1774544400-1774555200@lithiaspringsmethodist.org
SUMMARY:Tutoring
DESCRIPTION:
URL:https://lithiaspringsmethodist.org/calendar/tutoring-19/
LOCATION:Children’s Building
END:VEVENT
BEGIN:VEVENT
DTSTART;TZID=America/New_York:20260325T194500
DTEND;TZID=America/New_York:20260325T203000
DTSTAMP:20260425T120047
CREATED:20260115T184737Z
LAST-MODIFIED:20260115T184752Z
UID:4738-1774467900-1774470600@lithiaspringsmethodist.org
SUMMARY:Chancel Choir
DESCRIPTION:
URL:https://lithiaspringsmethodist.org/calendar/chancel-choir-39/
LOCATION:Sanctuary
END:VEVENT
BEGIN:VEVENT
DTSTART;TZID=America/New_York:20260325T191500
DTEND;TZID=America/New_York:20260325T201500
DTSTAMP:20260425T120047
CREATED:20260319T163453Z
LAST-MODIFIED:20260319T163453Z
UID:5057-1774466100-1774469700@lithiaspringsmethodist.org
SUMMARY:Dress Rehearsal Chancel Choir
DESCRIPTION:
URL:https://lithiaspringsmethodist.org/calendar/dress-rehearsal-chancel-choir/
END:VEVENT
BEGIN:VEVENT
DTSTART;TZID=America/New_York:20260325T184500
DTEND;TZID=America/New_York:20260325T194500
DTSTAMP:20260425T120047
CREATED:20260319T163331Z
LAST-MODIFIED:20260319T163331Z
UID:5055-1774464300-1774467900@lithiaspringsmethodist.org
SUMMARY:Dress Rehearsal Handbells
DESCRIPTION:
URL:https://lithiaspringsmethodist.org/calendar/dress-rehearsal-handbells/
END:VEVENT
BEGIN:VEVENT
DTSTART;TZID=America/New_York:20260325T184500
DTEND;TZID=America/New_York:20260325T193000
DTSTAMP:20260425T120047
CREATED:20260115T184336Z
LAST-MODIFIED:20260115T184336Z
UID:4730-1774464300-1774467000@lithiaspringsmethodist.org
SUMMARY:Handbell Choir
DESCRIPTION:
URL:https://lithiaspringsmethodist.org/calendar/handbell-choir-39/
LOCATION:Third Floor
END:VEVENT
BEGIN:VEVENT
DTSTART;TZID=America/New_York:20260325T181500
DTEND;TZID=America/New_York:20260325T203000
DTSTAMP:20260425T120047
CREATED:20260119T172604Z
LAST-MODIFIED:20260119T172604Z
UID:4769-1774462500-1774470600@lithiaspringsmethodist.org
SUMMARY:Cantata Dress Rehersal
DESCRIPTION:
URL:https://lithiaspringsmethodist.org/calendar/cantata-dress-rehersal/
LOCATION:Sanctuary
END:VEVENT
BEGIN:VEVENT
DTSTART;TZID=America/New_York:20260325T170000
DTEND;TZID=America/New_York:20260325T180000
DTSTAMP:20260425T120047
CREATED:20260115T184125Z
LAST-MODIFIED:20260115T184125Z
UID:4724-1774458000-1774461600@lithiaspringsmethodist.org
SUMMARY:Prayer Group
DESCRIPTION:
URL:https://lithiaspringsmethodist.org/calendar/prayer-group-55/
LOCATION:Conference Room
END:VEVENT
BEGIN:VEVENT
DTSTART;TZID=America/New_York:20260324T183000
DTEND;TZID=America/New_York:20260324T193000
DTSTAMP:20260425T120047
CREATED:20260319T161905Z
LAST-MODIFIED:20260319T161905Z
UID:5053-1774377000-1774380600@lithiaspringsmethodist.org
SUMMARY:HVAC meeting
DESCRIPTION:
URL:https://lithiaspringsmethodist.org/calendar/hvac-meeting/
LOCATION:Fellowship Hall
END:VEVENT
BEGIN:VEVENT
DTSTART;TZID=America/New_York:20260324T170000
DTEND;TZID=America/New_York:20260324T200000
DTSTAMP:20260425T120047
CREATED:20260115T182113Z
LAST-MODIFIED:20260115T182113Z
UID:4692-1774371600-1774382400@lithiaspringsmethodist.org
SUMMARY:Tutoring
DESCRIPTION:
URL:https://lithiaspringsmethodist.org/calendar/tutoring-18/
LOCATION:Children’s Building
END:VEVENT
BEGIN:VEVENT
DTSTART;TZID=America/New_York:20260323T190000
DTEND;TZID=America/New_York:20260323T203000
DTSTAMP:20260425T120047
CREATED:20260115T183503Z
LAST-MODIFIED:20260115T183503Z
UID:4706-1774292400-1774297800@lithiaspringsmethodist.org
SUMMARY:Scout Troop 62
DESCRIPTION:
URL:https://lithiaspringsmethodist.org/calendar/scout-troop-62-9/
LOCATION:Fellowship Hall
END:VEVENT
BEGIN:VEVENT
DTSTART;TZID=America/New_York:20260323T170000
DTEND;TZID=America/New_York:20260323T200000
DTSTAMP:20260425T120047
CREATED:20260115T182041Z
LAST-MODIFIED:20260115T182041Z
UID:4690-1774285200-1774296000@lithiaspringsmethodist.org
SUMMARY:Tutoring
DESCRIPTION:
URL:https://lithiaspringsmethodist.org/calendar/tutoring-17/
LOCATION:Children’s Building
END:VEVENT
BEGIN:VEVENT
DTSTART;TZID=America/New_York:20260322T110000
DTEND;TZID=America/New_York:20260322T120000
DTSTAMP:20260425T120047
CREATED:20260115T181157Z
LAST-MODIFIED:20260115T181157Z
UID:4665-1774177200-1774180800@lithiaspringsmethodist.org
SUMMARY:Worship Service
DESCRIPTION:
URL:https://lithiaspringsmethodist.org/calendar/worship-service-60/
LOCATION:Sanctuary
END:VEVENT
BEGIN:VEVENT
DTSTART;TZID=America/New_York:20260322T094500
DTEND;TZID=America/New_York:20260322T104500
DTSTAMP:20260425T120047
CREATED:20260115T180927Z
LAST-MODIFIED:20260115T180927Z
UID:4655-1774172700-1774176300@lithiaspringsmethodist.org
SUMMARY:Adult & Children Sunday School
DESCRIPTION:
URL:https://lithiaspringsmethodist.org/calendar/adult-children-sunday-school-6/
END:VEVENT
BEGIN:VEVENT
DTSTART;TZID=America/New_York:20260321T100000
DTEND;TZID=America/New_York:20260321T120000
DTSTAMP:20260425T120047
CREATED:20260115T184936Z
LAST-MODIFIED:20260115T184936Z
UID:4742-1774087200-1774094400@lithiaspringsmethodist.org
SUMMARY:Women's Group
DESCRIPTION:
URL:https://lithiaspringsmethodist.org/calendar/womens-group-3/
LOCATION:Fellowship Hall
END:VEVENT
BEGIN:VEVENT
DTSTART;TZID=America/New_York:20260319T170000
DTEND;TZID=America/New_York:20260319T200000
DTSTAMP:20260425T120047
CREATED:20260115T182003Z
LAST-MODIFIED:20260115T182003Z
UID:4688-1773939600-1773950400@lithiaspringsmethodist.org
SUMMARY:Tutoring
DESCRIPTION:
URL:https://lithiaspringsmethodist.org/calendar/tutoring-16/
LOCATION:Children’s Building
END:VEVENT
BEGIN:VEVENT
DTSTART;TZID=America/New_York:20260318T194500
DTEND;TZID=America/New_York:20260318T203000
DTSTAMP:20260425T120047
CREATED:20260115T184838Z
LAST-MODIFIED:20260115T184838Z
UID:4740-1773863100-1773865800@lithiaspringsmethodist.org
SUMMARY:Chancel Choir
DESCRIPTION:
URL:https://lithiaspringsmethodist.org/calendar/chancel-choir-40/
LOCATION:Sanctuary
END:VEVENT
BEGIN:VEVENT
DTSTART;TZID=America/New_York:20260318T184500
DTEND;TZID=America/New_York:20260318T193000
DTSTAMP:20260425T120047
CREATED:20260115T184435Z
LAST-MODIFIED:20260115T184435Z
UID:4732-1773859500-1773862200@lithiaspringsmethodist.org
SUMMARY:Handbell Choir
DESCRIPTION:
URL:https://lithiaspringsmethodist.org/calendar/handbell-choir-40/
LOCATION:Third Floor
END:VEVENT
BEGIN:VEVENT
DTSTART;TZID=America/New_York:20260318T180000
DTEND;TZID=America/New_York:20260318T193000
DTSTAMP:20260425T120047
CREATED:20260115T183817Z
LAST-MODIFIED:20260115T183817Z
UID:4714-1773856800-1773862200@lithiaspringsmethodist.org
SUMMARY:Cub Scout Pack 62
DESCRIPTION:
URL:https://lithiaspringsmethodist.org/calendar/cub-scout-pack-62-11/
LOCATION:Children’s Building
END:VEVENT
END:VCALENDAR