BEGIN:VCALENDAR
VERSION:2.0
PRODID:-//Lithia Springs Methodist Church - ECPv6.15.20//NONSGML v1.0//EN
CALSCALE:GREGORIAN
METHOD:PUBLISH
X-WR-CALNAME:Lithia Springs Methodist Church
X-ORIGINAL-URL:https://lithiaspringsmethodist.org
X-WR-CALDESC:Events for Lithia Springs Methodist Church
REFRESH-INTERVAL;VALUE=DURATION:PT1H
X-Robots-Tag:noindex
X-PUBLISHED-TTL:PT1H
BEGIN:VTIMEZONE
TZID:America/New_York
BEGIN:DAYLIGHT
TZOFFSETFROM:-0500
TZOFFSETTO:-0400
TZNAME:EDT
DTSTART:20250309T070000
END:DAYLIGHT
BEGIN:STANDARD
TZOFFSETFROM:-0400
TZOFFSETTO:-0500
TZNAME:EST
DTSTART:20251102T060000
END:STANDARD
BEGIN:DAYLIGHT
TZOFFSETFROM:-0500
TZOFFSETTO:-0400
TZNAME:EDT
DTSTART:20260308T070000
END:DAYLIGHT
BEGIN:STANDARD
TZOFFSETFROM:-0400
TZOFFSETTO:-0500
TZNAME:EST
DTSTART:20261101T060000
END:STANDARD
BEGIN:DAYLIGHT
TZOFFSETFROM:-0500
TZOFFSETTO:-0400
TZNAME:EDT
DTSTART:20270314T070000
END:DAYLIGHT
BEGIN:STANDARD
TZOFFSETFROM:-0400
TZOFFSETTO:-0500
TZNAME:EST
DTSTART:20271107T060000
END:STANDARD
END:VTIMEZONE
BEGIN:VEVENT
DTSTART;TZID=America/New_York:20260323T190000
DTEND;TZID=America/New_York:20260323T203000
DTSTAMP:20260425T184604
CREATED:20260115T183503Z
LAST-MODIFIED:20260115T183503Z
UID:4706-1774292400-1774297800@lithiaspringsmethodist.org
SUMMARY:Scout Troop 62
DESCRIPTION:
URL:https://lithiaspringsmethodist.org/calendar/scout-troop-62-9/
LOCATION:Fellowship Hall
END:VEVENT
BEGIN:VEVENT
DTSTART;TZID=America/New_York:20260323T170000
DTEND;TZID=America/New_York:20260323T200000
DTSTAMP:20260425T184604
CREATED:20260115T182041Z
LAST-MODIFIED:20260115T182041Z
UID:4690-1774285200-1774296000@lithiaspringsmethodist.org
SUMMARY:Tutoring
DESCRIPTION:
URL:https://lithiaspringsmethodist.org/calendar/tutoring-17/
LOCATION:Children’s Building
END:VEVENT
BEGIN:VEVENT
DTSTART;TZID=America/New_York:20260322T110000
DTEND;TZID=America/New_York:20260322T120000
DTSTAMP:20260425T184604
CREATED:20260115T181157Z
LAST-MODIFIED:20260115T181157Z
UID:4665-1774177200-1774180800@lithiaspringsmethodist.org
SUMMARY:Worship Service
DESCRIPTION:
URL:https://lithiaspringsmethodist.org/calendar/worship-service-60/
LOCATION:Sanctuary
END:VEVENT
BEGIN:VEVENT
DTSTART;TZID=America/New_York:20260322T094500
DTEND;TZID=America/New_York:20260322T104500
DTSTAMP:20260425T184604
CREATED:20260115T180927Z
LAST-MODIFIED:20260115T180927Z
UID:4655-1774172700-1774176300@lithiaspringsmethodist.org
SUMMARY:Adult & Children Sunday School
DESCRIPTION:
URL:https://lithiaspringsmethodist.org/calendar/adult-children-sunday-school-6/
END:VEVENT
BEGIN:VEVENT
DTSTART;TZID=America/New_York:20260321T100000
DTEND;TZID=America/New_York:20260321T120000
DTSTAMP:20260425T184604
CREATED:20260115T184936Z
LAST-MODIFIED:20260115T184936Z
UID:4742-1774087200-1774094400@lithiaspringsmethodist.org
SUMMARY:Women's Group
DESCRIPTION:
URL:https://lithiaspringsmethodist.org/calendar/womens-group-3/
LOCATION:Fellowship Hall
END:VEVENT
BEGIN:VEVENT
DTSTART;TZID=America/New_York:20260319T170000
DTEND;TZID=America/New_York:20260319T200000
DTSTAMP:20260425T184604
CREATED:20260115T182003Z
LAST-MODIFIED:20260115T182003Z
UID:4688-1773939600-1773950400@lithiaspringsmethodist.org
SUMMARY:Tutoring
DESCRIPTION:
URL:https://lithiaspringsmethodist.org/calendar/tutoring-16/
LOCATION:Children’s Building
END:VEVENT
BEGIN:VEVENT
DTSTART;TZID=America/New_York:20260318T194500
DTEND;TZID=America/New_York:20260318T203000
DTSTAMP:20260425T184604
CREATED:20260115T184838Z
LAST-MODIFIED:20260115T184838Z
UID:4740-1773863100-1773865800@lithiaspringsmethodist.org
SUMMARY:Chancel Choir
DESCRIPTION:
URL:https://lithiaspringsmethodist.org/calendar/chancel-choir-40/
LOCATION:Sanctuary
END:VEVENT
BEGIN:VEVENT
DTSTART;TZID=America/New_York:20260318T184500
DTEND;TZID=America/New_York:20260318T193000
DTSTAMP:20260425T184604
CREATED:20260115T184435Z
LAST-MODIFIED:20260115T184435Z
UID:4732-1773859500-1773862200@lithiaspringsmethodist.org
SUMMARY:Handbell Choir
DESCRIPTION:
URL:https://lithiaspringsmethodist.org/calendar/handbell-choir-40/
LOCATION:Third Floor
END:VEVENT
BEGIN:VEVENT
DTSTART;TZID=America/New_York:20260318T180000
DTEND;TZID=America/New_York:20260318T193000
DTSTAMP:20260425T184604
CREATED:20260115T183817Z
LAST-MODIFIED:20260115T183817Z
UID:4714-1773856800-1773862200@lithiaspringsmethodist.org
SUMMARY:Cub Scout Pack 62
DESCRIPTION:
URL:https://lithiaspringsmethodist.org/calendar/cub-scout-pack-62-11/
LOCATION:Children’s Building
END:VEVENT
BEGIN:VEVENT
DTSTART;TZID=America/New_York:20260318T170000
DTEND;TZID=America/New_York:20260318T180000
DTSTAMP:20260425T184604
CREATED:20260115T184056Z
LAST-MODIFIED:20260115T184056Z
UID:4722-1773853200-1773856800@lithiaspringsmethodist.org
SUMMARY:Prayer Group
DESCRIPTION:
URL:https://lithiaspringsmethodist.org/calendar/prayer-group-54/
LOCATION:Conference Room
END:VEVENT
BEGIN:VEVENT
DTSTART;TZID=America/New_York:20260317T180000
DTEND;TZID=America/New_York:20260317T193000
DTSTAMP:20260425T184604
CREATED:20260115T185338Z
LAST-MODIFIED:20260115T185338Z
UID:4749-1773770400-1773775800@lithiaspringsmethodist.org
SUMMARY:Trustee's
DESCRIPTION:
URL:https://lithiaspringsmethodist.org/calendar/trustees-13/
LOCATION:Conference Room
END:VEVENT
BEGIN:VEVENT
DTSTART;TZID=America/New_York:20260317T170000
DTEND;TZID=America/New_York:20260317T200000
DTSTAMP:20260425T184604
CREATED:20260115T181925Z
LAST-MODIFIED:20260115T181925Z
UID:4686-1773766800-1773777600@lithiaspringsmethodist.org
SUMMARY:Tutoring
DESCRIPTION:
URL:https://lithiaspringsmethodist.org/calendar/tutoring-15/
LOCATION:Children’s Building
END:VEVENT
BEGIN:VEVENT
DTSTART;TZID=America/New_York:20260316T190000
DTEND;TZID=America/New_York:20260316T203000
DTSTAMP:20260425T184604
CREATED:20260115T183428Z
LAST-MODIFIED:20260115T183428Z
UID:4704-1773687600-1773693000@lithiaspringsmethodist.org
SUMMARY:Scout Troop 62
DESCRIPTION:
URL:https://lithiaspringsmethodist.org/calendar/scout-troop-62-8/
LOCATION:Fellowship Hall
END:VEVENT
BEGIN:VEVENT
DTSTART;TZID=America/New_York:20260316T170000
DTEND;TZID=America/New_York:20260316T200000
DTSTAMP:20260425T184604
CREATED:20260115T181857Z
LAST-MODIFIED:20260115T181857Z
UID:4684-1773680400-1773691200@lithiaspringsmethodist.org
SUMMARY:Tutoring
DESCRIPTION:
URL:https://lithiaspringsmethodist.org/calendar/tutoring-14/
LOCATION:Children’s Building
END:VEVENT
BEGIN:VEVENT
DTSTART;TZID=America/New_York:20260315T120000
DTEND;TZID=America/New_York:20260315T140000
DTSTAMP:20260425T184604
CREATED:20260224T170615Z
LAST-MODIFIED:20260224T170615Z
UID:4901-1773576000-1773583200@lithiaspringsmethodist.org
SUMMARY:Soup & Salad Fundraiser
DESCRIPTION:
URL:https://lithiaspringsmethodist.org/calendar/soup-salad-fundraiser/
LOCATION:Fellowship Hall
END:VEVENT
BEGIN:VEVENT
DTSTART;TZID=America/New_York:20260315T110000
DTEND;TZID=America/New_York:20260315T120000
DTSTAMP:20260425T184604
CREATED:20260115T181134Z
LAST-MODIFIED:20260115T181134Z
UID:4663-1773572400-1773576000@lithiaspringsmethodist.org
SUMMARY:Worship Service
DESCRIPTION:
URL:https://lithiaspringsmethodist.org/calendar/worship-service-59/
LOCATION:Sanctuary
END:VEVENT
BEGIN:VEVENT
DTSTART;TZID=America/New_York:20260312T170000
DTEND;TZID=America/New_York:20260312T200000
DTSTAMP:20260425T184604
CREATED:20260115T181820Z
LAST-MODIFIED:20260115T181820Z
UID:4682-1773334800-1773345600@lithiaspringsmethodist.org
SUMMARY:Tutoring
DESCRIPTION:
URL:https://lithiaspringsmethodist.org/calendar/tutoring-13/
LOCATION:Children’s Building
END:VEVENT
BEGIN:VEVENT
DTSTART;TZID=America/New_York:20260311T194500
DTEND;TZID=America/New_York:20260311T203000
DTSTAMP:20260425T184604
CREATED:20260115T184709Z
LAST-MODIFIED:20260115T184709Z
UID:4736-1773258300-1773261000@lithiaspringsmethodist.org
SUMMARY:Chancel Choir
DESCRIPTION:
URL:https://lithiaspringsmethodist.org/calendar/chancel-choir-38/
LOCATION:Sanctuary
END:VEVENT
BEGIN:VEVENT
DTSTART;TZID=America/New_York:20260311T184500
DTEND;TZID=America/New_York:20260311T193000
DTSTAMP:20260425T184604
CREATED:20260115T184258Z
LAST-MODIFIED:20260115T184503Z
UID:4728-1773254700-1773257400@lithiaspringsmethodist.org
SUMMARY:Handbell Choir
DESCRIPTION:
URL:https://lithiaspringsmethodist.org/calendar/handbell-choir-38/
LOCATION:Third Floor
END:VEVENT
BEGIN:VEVENT
DTSTART;TZID=America/New_York:20260311T180000
DTEND;TZID=America/New_York:20260311T193000
DTSTAMP:20260425T184604
CREATED:20260115T183746Z
LAST-MODIFIED:20260115T183746Z
UID:4712-1773252000-1773257400@lithiaspringsmethodist.org
SUMMARY:Cub Scout Pack 62
DESCRIPTION:
URL:https://lithiaspringsmethodist.org/calendar/cub-scout-pack-62-10/
LOCATION:Children’s Building
END:VEVENT
BEGIN:VEVENT
DTSTART;TZID=America/New_York:20260311T170000
DTEND;TZID=America/New_York:20260311T180000
DTSTAMP:20260425T184604
CREATED:20260115T184027Z
LAST-MODIFIED:20260115T184027Z
UID:4720-1773248400-1773252000@lithiaspringsmethodist.org
SUMMARY:Prayer Group
DESCRIPTION:
URL:https://lithiaspringsmethodist.org/calendar/prayer-group-53/
LOCATION:Conference Room
END:VEVENT
BEGIN:VEVENT
DTSTART;TZID=America/New_York:20260310T190000
DTEND;TZID=America/New_York:20260310T200000
DTSTAMP:20260425T184604
CREATED:20260115T185230Z
LAST-MODIFIED:20260115T185230Z
UID:4747-1773169200-1773172800@lithiaspringsmethodist.org
SUMMARY:Men's Group
DESCRIPTION:
URL:https://lithiaspringsmethodist.org/calendar/mens-group-3/
LOCATION:Third Floor
END:VEVENT
BEGIN:VEVENT
DTSTART;TZID=America/New_York:20260310T180000
DTEND;TZID=America/New_York:20260310T190000
DTSTAMP:20260425T184604
CREATED:20260310T172651Z
LAST-MODIFIED:20260310T172651Z
UID:5037-1773165600-1773169200@lithiaspringsmethodist.org
SUMMARY:Trustee's
DESCRIPTION:
URL:https://lithiaspringsmethodist.org/calendar/trustees-15/
LOCATION:Conference Room
END:VEVENT
BEGIN:VEVENT
DTSTART;TZID=America/New_York:20260310T170000
DTEND;TZID=America/New_York:20260310T200000
DTSTAMP:20260425T184604
CREATED:20260115T181747Z
LAST-MODIFIED:20260115T181747Z
UID:4680-1773162000-1773172800@lithiaspringsmethodist.org
SUMMARY:Tutoring
DESCRIPTION:
URL:https://lithiaspringsmethodist.org/calendar/tutoring-12/
LOCATION:Children’s Building
END:VEVENT
BEGIN:VEVENT
DTSTART;TZID=America/New_York:20260310T100000
DTEND;TZID=America/New_York:20260310T110000
DTSTAMP:20260425T184604
CREATED:20260115T165619Z
LAST-MODIFIED:20260115T165619Z
UID:4647-1773136800-1773140400@lithiaspringsmethodist.org
SUMMARY:The Circle Maker Bible Study
DESCRIPTION:
URL:https://lithiaspringsmethodist.org/calendar/the-circle-maker-bible-study-8/
LOCATION:Children’s Building
END:VEVENT
BEGIN:VEVENT
DTSTART;TZID=America/New_York:20260309T190000
DTEND;TZID=America/New_York:20260309T203000
DTSTAMP:20260425T184604
CREATED:20260115T183353Z
LAST-MODIFIED:20260115T183353Z
UID:4702-1773082800-1773088200@lithiaspringsmethodist.org
SUMMARY:Scout Troop 62
DESCRIPTION:
URL:https://lithiaspringsmethodist.org/calendar/scout-troop-62-7/
LOCATION:Fellowship Hall
END:VEVENT
BEGIN:VEVENT
DTSTART;TZID=America/New_York:20260309T190000
DTEND;TZID=America/New_York:20260309T200000
DTSTAMP:20260425T184604
CREATED:20260115T165552Z
LAST-MODIFIED:20260115T165552Z
UID:4645-1773082800-1773086400@lithiaspringsmethodist.org
SUMMARY:The Circle Maker Bible Study
DESCRIPTION:
URL:https://lithiaspringsmethodist.org/calendar/the-circle-maker-bible-study-7/
LOCATION:Children’s Building
END:VEVENT
BEGIN:VEVENT
DTSTART;TZID=America/New_York:20260309T170000
DTEND;TZID=America/New_York:20260309T200000
DTSTAMP:20260425T184604
CREATED:20260115T181723Z
LAST-MODIFIED:20260115T181723Z
UID:4678-1773075600-1773086400@lithiaspringsmethodist.org
SUMMARY:Tutoring
DESCRIPTION:
URL:https://lithiaspringsmethodist.org/calendar/tutoring-11/
LOCATION:Children’s Building
END:VEVENT
BEGIN:VEVENT
DTSTART;TZID=America/New_York:20260308T110000
DTEND;TZID=America/New_York:20260308T120000
DTSTAMP:20260425T184604
CREATED:20260115T181109Z
LAST-MODIFIED:20260115T181109Z
UID:4661-1772967600-1772971200@lithiaspringsmethodist.org
SUMMARY:Worship Service
DESCRIPTION:
URL:https://lithiaspringsmethodist.org/calendar/worship-service-58/
LOCATION:Sanctuary
END:VEVENT
BEGIN:VEVENT
DTSTART;TZID=America/New_York:20260305T170000
DTEND;TZID=America/New_York:20260305T200000
DTSTAMP:20260425T184604
CREATED:20260115T181653Z
LAST-MODIFIED:20260115T181653Z
UID:4676-1772730000-1772740800@lithiaspringsmethodist.org
SUMMARY:Tutoring
DESCRIPTION:
URL:https://lithiaspringsmethodist.org/calendar/tutoring-10/
LOCATION:Children’s Building
END:VEVENT
END:VCALENDAR