BEGIN:VCALENDAR
VERSION:2.0
PRODID:-//Lithia Springs Methodist Church - ECPv6.15.20//NONSGML v1.0//EN
CALSCALE:GREGORIAN
METHOD:PUBLISH
X-WR-CALNAME:Lithia Springs Methodist Church
X-ORIGINAL-URL:https://lithiaspringsmethodist.org
X-WR-CALDESC:Events for Lithia Springs Methodist Church
REFRESH-INTERVAL;VALUE=DURATION:PT1H
X-Robots-Tag:noindex
X-PUBLISHED-TTL:PT1H
BEGIN:VTIMEZONE
TZID:America/New_York
BEGIN:DAYLIGHT
TZOFFSETFROM:-0500
TZOFFSETTO:-0400
TZNAME:EDT
DTSTART:20250309T070000
END:DAYLIGHT
BEGIN:STANDARD
TZOFFSETFROM:-0400
TZOFFSETTO:-0500
TZNAME:EST
DTSTART:20251102T060000
END:STANDARD
BEGIN:DAYLIGHT
TZOFFSETFROM:-0500
TZOFFSETTO:-0400
TZNAME:EDT
DTSTART:20260308T070000
END:DAYLIGHT
BEGIN:STANDARD
TZOFFSETFROM:-0400
TZOFFSETTO:-0500
TZNAME:EST
DTSTART:20261101T060000
END:STANDARD
BEGIN:DAYLIGHT
TZOFFSETFROM:-0500
TZOFFSETTO:-0400
TZNAME:EDT
DTSTART:20270314T070000
END:DAYLIGHT
BEGIN:STANDARD
TZOFFSETFROM:-0400
TZOFFSETTO:-0500
TZNAME:EST
DTSTART:20271107T060000
END:STANDARD
END:VTIMEZONE
BEGIN:VEVENT
DTSTART;TZID=America/New_York:20260405T000000
DTEND;TZID=America/New_York:20260405T235959
DTSTAMP:20260425T101839
CREATED:20260205T174035Z
LAST-MODIFIED:20260205T174035Z
UID:4863-1775347200-1775433599@lithiaspringsmethodist.org
SUMMARY:Easter
DESCRIPTION:
URL:https://lithiaspringsmethodist.org/calendar/easter/
END:VEVENT
BEGIN:VEVENT
DTSTART;TZID=America/New_York:20260405T094500
DTEND;TZID=America/New_York:20260405T224500
DTSTAMP:20260425T101839
CREATED:20260310T164348Z
LAST-MODIFIED:20260310T164348Z
UID:4944-1775382300-1775429100@lithiaspringsmethodist.org
SUMMARY:Adult & Children Sunday School
DESCRIPTION:
URL:https://lithiaspringsmethodist.org/calendar/adult-children-sunday-school-11/
END:VEVENT
BEGIN:VEVENT
DTSTART;TZID=America/New_York:20260405T110000
DTEND;TZID=America/New_York:20260405T120000
DTSTAMP:20260425T101839
CREATED:20260310T170157Z
LAST-MODIFIED:20260310T170157Z
UID:4975-1775386800-1775390400@lithiaspringsmethodist.org
SUMMARY:Worship Service
DESCRIPTION:
URL:https://lithiaspringsmethodist.org/calendar/worship-service-62/
LOCATION:Sanctuary
END:VEVENT
END:VCALENDAR