BEGIN:VCALENDAR
VERSION:2.0
PRODID:-//Lithia Springs Methodist Church - ECPv6.15.20//NONSGML v1.0//EN
CALSCALE:GREGORIAN
METHOD:PUBLISH
X-ORIGINAL-URL:https://lithiaspringsmethodist.org
X-WR-CALDESC:Events for Lithia Springs Methodist Church
REFRESH-INTERVAL;VALUE=DURATION:PT1H
X-Robots-Tag:noindex
X-PUBLISHED-TTL:PT1H
BEGIN:VTIMEZONE
TZID:America/New_York
BEGIN:DAYLIGHT
TZOFFSETFROM:-0500
TZOFFSETTO:-0400
TZNAME:EDT
DTSTART:20250309T070000
END:DAYLIGHT
BEGIN:STANDARD
TZOFFSETFROM:-0400
TZOFFSETTO:-0500
TZNAME:EST
DTSTART:20251102T060000
END:STANDARD
BEGIN:DAYLIGHT
TZOFFSETFROM:-0500
TZOFFSETTO:-0400
TZNAME:EDT
DTSTART:20260308T070000
END:DAYLIGHT
BEGIN:STANDARD
TZOFFSETFROM:-0400
TZOFFSETTO:-0500
TZNAME:EST
DTSTART:20261101T060000
END:STANDARD
BEGIN:DAYLIGHT
TZOFFSETFROM:-0500
TZOFFSETTO:-0400
TZNAME:EDT
DTSTART:20270314T070000
END:DAYLIGHT
BEGIN:STANDARD
TZOFFSETFROM:-0400
TZOFFSETTO:-0500
TZNAME:EST
DTSTART:20271107T060000
END:STANDARD
END:VTIMEZONE
BEGIN:VEVENT
DTSTART;TZID=America/New_York:20260330T170000
DTEND;TZID=America/New_York:20260330T200000
DTSTAMP:20260425T091525
CREATED:20260115T182215Z
LAST-MODIFIED:20260115T182215Z
UID:4696-1774890000-1774900800@lithiaspringsmethodist.org
SUMMARY:Tutoring
DESCRIPTION:
URL:https://lithiaspringsmethodist.org/calendar/tutoring-20/
LOCATION:Children’s Building
END:VEVENT
BEGIN:VEVENT
DTSTART;TZID=America/New_York:20260330T190000
DTEND;TZID=America/New_York:20260330T200000
DTSTAMP:20260425T091525
CREATED:20260115T183539Z
LAST-MODIFIED:20260115T183539Z
UID:4708-1774897200-1774900800@lithiaspringsmethodist.org
SUMMARY:Scout Troop 62
DESCRIPTION:
URL:https://lithiaspringsmethodist.org/calendar/scout-troop-62-10/
LOCATION:Fellowship Hall
END:VEVENT
END:VCALENDAR