BEGIN:VCALENDAR
VERSION:2.0
PRODID:-//Lithia Springs Methodist Church - ECPv6.15.20//NONSGML v1.0//EN
CALSCALE:GREGORIAN
METHOD:PUBLISH
X-WR-CALNAME:Lithia Springs Methodist Church
X-ORIGINAL-URL:https://lithiaspringsmethodist.org
X-WR-CALDESC:Events for Lithia Springs Methodist Church
REFRESH-INTERVAL;VALUE=DURATION:PT1H
X-Robots-Tag:noindex
X-PUBLISHED-TTL:PT1H
BEGIN:VTIMEZONE
TZID:America/New_York
BEGIN:DAYLIGHT
TZOFFSETFROM:-0500
TZOFFSETTO:-0400
TZNAME:EDT
DTSTART:20250309T070000
END:DAYLIGHT
BEGIN:STANDARD
TZOFFSETFROM:-0400
TZOFFSETTO:-0500
TZNAME:EST
DTSTART:20251102T060000
END:STANDARD
BEGIN:DAYLIGHT
TZOFFSETFROM:-0500
TZOFFSETTO:-0400
TZNAME:EDT
DTSTART:20260308T070000
END:DAYLIGHT
BEGIN:STANDARD
TZOFFSETFROM:-0400
TZOFFSETTO:-0500
TZNAME:EST
DTSTART:20261101T060000
END:STANDARD
BEGIN:DAYLIGHT
TZOFFSETFROM:-0500
TZOFFSETTO:-0400
TZNAME:EDT
DTSTART:20270314T070000
END:DAYLIGHT
BEGIN:STANDARD
TZOFFSETFROM:-0400
TZOFFSETTO:-0500
TZNAME:EST
DTSTART:20271107T060000
END:STANDARD
END:VTIMEZONE
BEGIN:VEVENT
DTSTART;TZID=America/New_York:20260329T000000
DTEND;TZID=America/New_York:20260329T235959
DTSTAMP:20260425T090800
CREATED:20260319T163544Z
LAST-MODIFIED:20260319T163544Z
UID:5059-1774742400-1774828799@lithiaspringsmethodist.org
SUMMARY:Palm Sunday
DESCRIPTION:
URL:https://lithiaspringsmethodist.org/calendar/palm-sunday/
END:VEVENT
BEGIN:VEVENT
DTSTART;TZID=America/New_York:20260329T094500
DTEND;TZID=America/New_York:20260329T104500
DTSTAMP:20260425T090800
CREATED:20260115T180956Z
LAST-MODIFIED:20260115T180956Z
UID:4657-1774777500-1774781100@lithiaspringsmethodist.org
SUMMARY:Adult & Children Sunday School
DESCRIPTION:
URL:https://lithiaspringsmethodist.org/calendar/adult-children-sunday-school-7/
END:VEVENT
BEGIN:VEVENT
DTSTART;TZID=America/New_York:20260329T110000
DTEND;TZID=America/New_York:20260329T120000
DTSTAMP:20260425T090800
CREATED:20260115T181220Z
LAST-MODIFIED:20260115T181337Z
UID:4667-1774782000-1774785600@lithiaspringsmethodist.org
SUMMARY:Worship Service
DESCRIPTION:
URL:https://lithiaspringsmethodist.org/calendar/worship-service-61/
LOCATION:Sanctuary
END:VEVENT
BEGIN:VEVENT
DTSTART;TZID=America/New_York:20260329T110000
DTEND;TZID=America/New_York:20260329T120000
DTSTAMP:20260425T090800
CREATED:20260115T181429Z
LAST-MODIFIED:20260115T181429Z
UID:4670-1774782000-1774785600@lithiaspringsmethodist.org
SUMMARY:Easter Cantata
DESCRIPTION:
URL:https://lithiaspringsmethodist.org/calendar/easter-cantata/
LOCATION:Sanctuary
END:VEVENT
BEGIN:VEVENT
DTSTART;TZID=America/New_York:20260329T110000
DTEND;TZID=America/New_York:20260329T120000
DTSTAMP:20260425T090800
CREATED:20260319T164309Z
LAST-MODIFIED:20260319T164309Z
UID:5061-1774782000-1774785600@lithiaspringsmethodist.org
SUMMARY:Easter Cantata Service
DESCRIPTION:
URL:https://lithiaspringsmethodist.org/calendar/easter-cantata-service/
END:VEVENT
END:VCALENDAR