BEGIN:VCALENDAR
VERSION:2.0
PRODID:-//Lithia Springs Methodist Church - ECPv6.15.20//NONSGML v1.0//EN
CALSCALE:GREGORIAN
METHOD:PUBLISH
X-ORIGINAL-URL:https://lithiaspringsmethodist.org
X-WR-CALDESC:Events for Lithia Springs Methodist Church
REFRESH-INTERVAL;VALUE=DURATION:PT1H
X-Robots-Tag:noindex
X-PUBLISHED-TTL:PT1H
BEGIN:VTIMEZONE
TZID:America/New_York
BEGIN:DAYLIGHT
TZOFFSETFROM:-0500
TZOFFSETTO:-0400
TZNAME:EDT
DTSTART:20250309T070000
END:DAYLIGHT
BEGIN:STANDARD
TZOFFSETFROM:-0400
TZOFFSETTO:-0500
TZNAME:EST
DTSTART:20251102T060000
END:STANDARD
BEGIN:DAYLIGHT
TZOFFSETFROM:-0500
TZOFFSETTO:-0400
TZNAME:EDT
DTSTART:20260308T070000
END:DAYLIGHT
BEGIN:STANDARD
TZOFFSETFROM:-0400
TZOFFSETTO:-0500
TZNAME:EST
DTSTART:20261101T060000
END:STANDARD
BEGIN:DAYLIGHT
TZOFFSETFROM:-0500
TZOFFSETTO:-0400
TZNAME:EDT
DTSTART:20270314T070000
END:DAYLIGHT
BEGIN:STANDARD
TZOFFSETFROM:-0400
TZOFFSETTO:-0500
TZNAME:EST
DTSTART:20271107T060000
END:STANDARD
END:VTIMEZONE
BEGIN:VEVENT
DTSTART;TZID=America/New_York:20260325T170000
DTEND;TZID=America/New_York:20260325T180000
DTSTAMP:20260425T141710
CREATED:20260115T184125Z
LAST-MODIFIED:20260115T184125Z
UID:4724-1774458000-1774461600@lithiaspringsmethodist.org
SUMMARY:Prayer Group
DESCRIPTION:
URL:https://lithiaspringsmethodist.org/calendar/prayer-group-55/
LOCATION:Conference Room
END:VEVENT
BEGIN:VEVENT
DTSTART;TZID=America/New_York:20260325T181500
DTEND;TZID=America/New_York:20260325T203000
DTSTAMP:20260425T141710
CREATED:20260119T172604Z
LAST-MODIFIED:20260119T172604Z
UID:4769-1774462500-1774470600@lithiaspringsmethodist.org
SUMMARY:Cantata Dress Rehersal
DESCRIPTION:
URL:https://lithiaspringsmethodist.org/calendar/cantata-dress-rehersal/
LOCATION:Sanctuary
END:VEVENT
BEGIN:VEVENT
DTSTART;TZID=America/New_York:20260325T184500
DTEND;TZID=America/New_York:20260325T193000
DTSTAMP:20260425T141710
CREATED:20260115T184336Z
LAST-MODIFIED:20260115T184336Z
UID:4730-1774464300-1774467000@lithiaspringsmethodist.org
SUMMARY:Handbell Choir
DESCRIPTION:
URL:https://lithiaspringsmethodist.org/calendar/handbell-choir-39/
LOCATION:Third Floor
END:VEVENT
BEGIN:VEVENT
DTSTART;TZID=America/New_York:20260325T184500
DTEND;TZID=America/New_York:20260325T194500
DTSTAMP:20260425T141710
CREATED:20260319T163331Z
LAST-MODIFIED:20260319T163331Z
UID:5055-1774464300-1774467900@lithiaspringsmethodist.org
SUMMARY:Dress Rehearsal Handbells
DESCRIPTION:
URL:https://lithiaspringsmethodist.org/calendar/dress-rehearsal-handbells/
END:VEVENT
BEGIN:VEVENT
DTSTART;TZID=America/New_York:20260325T191500
DTEND;TZID=America/New_York:20260325T201500
DTSTAMP:20260425T141710
CREATED:20260319T163453Z
LAST-MODIFIED:20260319T163453Z
UID:5057-1774466100-1774469700@lithiaspringsmethodist.org
SUMMARY:Dress Rehearsal Chancel Choir
DESCRIPTION:
URL:https://lithiaspringsmethodist.org/calendar/dress-rehearsal-chancel-choir/
END:VEVENT
BEGIN:VEVENT
DTSTART;TZID=America/New_York:20260325T194500
DTEND;TZID=America/New_York:20260325T203000
DTSTAMP:20260425T141710
CREATED:20260115T184737Z
LAST-MODIFIED:20260115T184752Z
UID:4738-1774467900-1774470600@lithiaspringsmethodist.org
SUMMARY:Chancel Choir
DESCRIPTION:
URL:https://lithiaspringsmethodist.org/calendar/chancel-choir-39/
LOCATION:Sanctuary
END:VEVENT
END:VCALENDAR